BEGIN:VCALENDAR
VERSION:2.0
PRODID:-//Amity Club of New Haven - ECPv6.15.20//NONSGML v1.0//EN
CALSCALE:GREGORIAN
METHOD:PUBLISH
X-WR-CALNAME:Amity Club of New Haven
X-ORIGINAL-URL:https://amityclub.org
X-WR-CALDESC:Events for Amity Club of New Haven
REFRESH-INTERVAL;VALUE=DURATION:PT1H
X-Robots-Tag:noindex
X-PUBLISHED-TTL:PT1H
BEGIN:VTIMEZONE
TZID:America/New_York
BEGIN:DAYLIGHT
TZOFFSETFROM:-0500
TZOFFSETTO:-0400
TZNAME:EDT
DTSTART:20170312T070000
END:DAYLIGHT
BEGIN:STANDARD
TZOFFSETFROM:-0400
TZOFFSETTO:-0500
TZNAME:EST
DTSTART:20171105T060000
END:STANDARD
BEGIN:DAYLIGHT
TZOFFSETFROM:-0500
TZOFFSETTO:-0400
TZNAME:EDT
DTSTART:20180311T070000
END:DAYLIGHT
BEGIN:STANDARD
TZOFFSETFROM:-0400
TZOFFSETTO:-0500
TZNAME:EST
DTSTART:20181104T060000
END:STANDARD
BEGIN:DAYLIGHT
TZOFFSETFROM:-0500
TZOFFSETTO:-0400
TZNAME:EDT
DTSTART:20190310T070000
END:DAYLIGHT
BEGIN:STANDARD
TZOFFSETFROM:-0400
TZOFFSETTO:-0500
TZNAME:EST
DTSTART:20191103T060000
END:STANDARD
BEGIN:DAYLIGHT
TZOFFSETFROM:-0500
TZOFFSETTO:-0400
TZNAME:EDT
DTSTART:20200308T070000
END:DAYLIGHT
BEGIN:STANDARD
TZOFFSETFROM:-0400
TZOFFSETTO:-0500
TZNAME:EST
DTSTART:20201101T060000
END:STANDARD
BEGIN:DAYLIGHT
TZOFFSETFROM:-0500
TZOFFSETTO:-0400
TZNAME:EDT
DTSTART:20210314T070000
END:DAYLIGHT
BEGIN:STANDARD
TZOFFSETFROM:-0400
TZOFFSETTO:-0500
TZNAME:EST
DTSTART:20211107T060000
END:STANDARD
BEGIN:DAYLIGHT
TZOFFSETFROM:-0500
TZOFFSETTO:-0400
TZNAME:EDT
DTSTART:20220313T070000
END:DAYLIGHT
BEGIN:STANDARD
TZOFFSETFROM:-0400
TZOFFSETTO:-0500
TZNAME:EST
DTSTART:20221106T060000
END:STANDARD
END:VTIMEZONE
BEGIN:VEVENT
DTSTART;TZID=America/New_York:20210209T180000
DTEND;TZID=America/New_York:20210209T200000
DTSTAMP:20260423T152914
CREATED:20210117T192456Z
LAST-MODIFIED:20210117T194616Z
UID:422237-1612893600-1612900800@amityclub.org
SUMMARY:Board of Directors Meeting - Zoom Meeting
DESCRIPTION:For your safety during the pandemic\, participation in this meeting is also available via ZOOM.  \nA ZOOM link will be sent out prior to the meeting. 
URL:https://amityclub.org/event/board-of-directors-meeting-67-copy/
LOCATION:Brazi’s Italian Restaurant and Via ZOOM\, 201 Food Terminal Plaza\, New Haven\, CT\, 06511
CATEGORIES:Board of Directors Meetings
END:VEVENT
BEGIN:VEVENT
DTSTART;TZID=America/New_York:20210112T180000
DTEND;TZID=America/New_York:20210112T200000
DTSTAMP:20260423T152914
CREATED:20201015T165944Z
LAST-MODIFIED:20201129T175125Z
UID:422146-1610474400-1610481600@amityclub.org
SUMMARY:Board of Directors Meeting - Zoom Meeting
DESCRIPTION:
URL:https://amityclub.org/event/board-of-directors-meeting-67/
LOCATION:For your safety during the Pandemic this meeting will be conducted via ZOOM
CATEGORIES:Board of Directors Meetings
END:VEVENT
BEGIN:VEVENT
DTSTART;TZID=America/New_York:20201207T180000
DTEND;TZID=America/New_York:20201207T200000
DTSTAMP:20260423T152914
CREATED:20201015T165622Z
LAST-MODIFIED:20201129T174919Z
UID:422143-1607364000-1607371200@amityclub.org
SUMMARY:Board of Directors Meeting - Zoom Meeting
DESCRIPTION:
URL:https://amityclub.org/event/board-of-directors-meeting-66/
LOCATION:For your safety during the Pandemic this meeting will be conducted via ZOOM
CATEGORIES:Board of Directors Meetings
END:VEVENT
BEGIN:VEVENT
DTSTART;TZID=America/New_York:20201110T180000
DTEND;TZID=America/New_York:20201110T200000
DTSTAMP:20260423T152914
CREATED:20201013T210400Z
LAST-MODIFIED:20201013T211400Z
UID:422117-1605031200-1605038400@amityclub.org
SUMMARY:Board of Directors Meeting
DESCRIPTION:Brazi’s Italian Restaurant\, 201 Food Terminal Plaza New Haven\, CT 06511 + Google Map Board of Directors Meeting
URL:https://amityclub.org/event/board-of-directors-meeting-65/
LOCATION:Brazi’s Italian Restaurant and Via ZOOM\, 201 Food Terminal Plaza\, New Haven\, CT\, 06511
CATEGORIES:Board of Directors Meetings
END:VEVENT
BEGIN:VEVENT
DTSTART;TZID=America/New_York:20201013T180000
DTEND;TZID=America/New_York:20201013T200000
DTSTAMP:20260423T152914
CREATED:20201013T205654Z
LAST-MODIFIED:20201013T211554Z
UID:422114-1602612000-1602619200@amityclub.org
SUMMARY:Board of Directors Meeting
DESCRIPTION:Brazi’s Italian Restaurant\, 201 Food Terminal Plaza\nNew Haven\, CT 06511 + Google Map\n\n\n\nBoard of Directors Meeting
URL:https://amityclub.org/event/board-of-directors-meeting-64/
LOCATION:Brazi’s Italian Restaurant and Via ZOOM\, 201 Food Terminal Plaza\, New Haven\, CT\, 06511
CATEGORIES:Board of Directors Meetings
END:VEVENT
BEGIN:VEVENT
DTSTART;TZID=America/New_York:20200609T180000
DTEND;TZID=America/New_York:20200609T200000
DTSTAMP:20260423T152914
CREATED:20190617T203156Z
LAST-MODIFIED:20190617T203835Z
UID:5315-1591725600-1591732800@amityclub.org
SUMMARY:Board of Directors Meeting
DESCRIPTION:Board of Directors Meeting
URL:https://amityclub.org/event/board-of-directors-meeting-63/
LOCATION:Brazi’s Italian Restaurant and Via ZOOM\, 201 Food Terminal Plaza\, New Haven\, CT\, 06511
CATEGORIES:Board of Directors Meetings
END:VEVENT
BEGIN:VEVENT
DTSTART;TZID=America/New_York:20200512T180000
DTEND;TZID=America/New_York:20200512T200000
DTSTAMP:20260423T152914
CREATED:20190617T203154Z
LAST-MODIFIED:20190617T203835Z
UID:5312-1589306400-1589313600@amityclub.org
SUMMARY:Board of Directors Meeting
DESCRIPTION:Board of Directors Meeting
URL:https://amityclub.org/event/board-of-directors-meeting-62/
LOCATION:Brazi’s Italian Restaurant and Via ZOOM\, 201 Food Terminal Plaza\, New Haven\, CT\, 06511
CATEGORIES:Board of Directors Meetings
END:VEVENT
BEGIN:VEVENT
DTSTART;TZID=America/New_York:20200414T180000
DTEND;TZID=America/New_York:20200414T200000
DTSTAMP:20260423T152914
CREATED:20190617T203153Z
LAST-MODIFIED:20190617T203834Z
UID:5309-1586887200-1586894400@amityclub.org
SUMMARY:Board of Directors Meeting
DESCRIPTION:Board of Directors Meeting
URL:https://amityclub.org/event/board-of-directors-meeting-61/
LOCATION:Brazi’s Italian Restaurant and Via ZOOM\, 201 Food Terminal Plaza\, New Haven\, CT\, 06511
CATEGORIES:Board of Directors Meetings
END:VEVENT
BEGIN:VEVENT
DTSTART;TZID=America/New_York:20200310T180000
DTEND;TZID=America/New_York:20200310T200000
DTSTAMP:20260423T152914
CREATED:20190617T203151Z
LAST-MODIFIED:20190617T203834Z
UID:5306-1583863200-1583870400@amityclub.org
SUMMARY:Board of Directors Meeting
DESCRIPTION:Board of Directors Meeting
URL:https://amityclub.org/event/board-of-directors-meeting-60/
LOCATION:Brazi’s Italian Restaurant and Via ZOOM\, 201 Food Terminal Plaza\, New Haven\, CT\, 06511
CATEGORIES:Board of Directors Meetings
END:VEVENT
BEGIN:VEVENT
DTSTART;TZID=America/New_York:20200211T180000
DTEND;TZID=America/New_York:20200211T200000
DTSTAMP:20260423T152914
CREATED:20190617T203150Z
LAST-MODIFIED:20190617T203834Z
UID:5303-1581444000-1581451200@amityclub.org
SUMMARY:Board of Directors Meeting
DESCRIPTION:Board of Directors Meeting
URL:https://amityclub.org/event/board-of-directors-meeting-59/
LOCATION:Brazi’s Italian Restaurant and Via ZOOM\, 201 Food Terminal Plaza\, New Haven\, CT\, 06511
CATEGORIES:Board of Directors Meetings
END:VEVENT
BEGIN:VEVENT
DTSTART;TZID=America/New_York:20200114T180000
DTEND;TZID=America/New_York:20200114T200000
DTSTAMP:20260423T152914
CREATED:20190617T203148Z
LAST-MODIFIED:20190617T203832Z
UID:5300-1579024800-1579032000@amityclub.org
SUMMARY:Board of Directors Meeting
DESCRIPTION:Board of Directors Meeting
URL:https://amityclub.org/event/board-of-directors-meeting-58/
LOCATION:Brazi’s Italian Restaurant and Via ZOOM\, 201 Food Terminal Plaza\, New Haven\, CT\, 06511
CATEGORIES:Board of Directors Meetings
END:VEVENT
BEGIN:VEVENT
DTSTART;TZID=America/New_York:20191209T180000
DTEND;TZID=America/New_York:20191209T200000
DTSTAMP:20260423T152914
CREATED:20190617T203146Z
LAST-MODIFIED:20190617T203832Z
UID:5297-1575914400-1575921600@amityclub.org
SUMMARY:Board of Directors Meeting
DESCRIPTION:Board of Directors Meeting
URL:https://amityclub.org/event/board-of-directors-meeting-57/
LOCATION:Brazi’s Italian Restaurant and Via ZOOM\, 201 Food Terminal Plaza\, New Haven\, CT\, 06511
CATEGORIES:Board of Directors Meetings
END:VEVENT
BEGIN:VEVENT
DTSTART;TZID=America/New_York:20191112T180000
DTEND;TZID=America/New_York:20191112T200000
DTSTAMP:20260423T152914
CREATED:20190617T203145Z
LAST-MODIFIED:20190617T203832Z
UID:5295-1573581600-1573588800@amityclub.org
SUMMARY:Board of Directors Meeting
DESCRIPTION:Board of Directors Meeting
URL:https://amityclub.org/event/board-of-directors-meeting-56/
LOCATION:Brazi’s Italian Restaurant and Via ZOOM\, 201 Food Terminal Plaza\, New Haven\, CT\, 06511
CATEGORIES:Board of Directors Meetings
END:VEVENT
BEGIN:VEVENT
DTSTART;TZID=America/New_York:20191008T180000
DTEND;TZID=America/New_York:20191008T200000
DTSTAMP:20260423T152914
CREATED:20190617T203141Z
LAST-MODIFIED:20190617T203832Z
UID:5292-1570557600-1570564800@amityclub.org
SUMMARY:Board of Directors Meeting
DESCRIPTION:Board of Directors Meeting
URL:https://amityclub.org/event/board-of-directors-meeting-55/
LOCATION:Brazi’s Italian Restaurant and Via ZOOM\, 201 Food Terminal Plaza\, New Haven\, CT\, 06511
CATEGORIES:Board of Directors Meetings
END:VEVENT
BEGIN:VEVENT
DTSTART;TZID=America/New_York:20190910T180000
DTEND;TZID=America/New_York:20190910T200000
DTSTAMP:20260423T152914
CREATED:20190617T203141Z
LAST-MODIFIED:20190617T203832Z
UID:5289-1568138400-1568145600@amityclub.org
SUMMARY:Board of Directors Meeting
DESCRIPTION:Board of Directors Meeting
URL:https://amityclub.org/event/board-of-directors-meeting-54/
LOCATION:Brazi’s Italian Restaurant and Via ZOOM\, 201 Food Terminal Plaza\, New Haven\, CT\, 06511
CATEGORIES:Board of Directors Meetings
END:VEVENT
BEGIN:VEVENT
DTSTART;TZID=America/New_York:20190611T180000
DTEND;TZID=America/New_York:20190611T200000
DTSTAMP:20260423T152914
CREATED:20180703T165537Z
LAST-MODIFIED:20190327T222507Z
UID:4414-1560276000-1560283200@amityclub.org
SUMMARY:Board of Directors Meeting
DESCRIPTION:Board of Directors Meeting
URL:https://amityclub.org/event/board-of-directors-meeting-52/
LOCATION:Brazi’s Italian Restaurant and Via ZOOM\, 201 Food Terminal Plaza\, New Haven\, CT\, 06511
CATEGORIES:Board of Directors Meetings
END:VEVENT
BEGIN:VEVENT
DTSTART;TZID=America/New_York:20190514T180000
DTEND;TZID=America/New_York:20190514T200000
DTSTAMP:20260423T152914
CREATED:20180703T165535Z
LAST-MODIFIED:20190327T222539Z
UID:4410-1557856800-1557864000@amityclub.org
SUMMARY:Board of Directors Meeting
DESCRIPTION:Board of Directors Meeting
URL:https://amityclub.org/event/board-of-directors-meeting-51/
LOCATION:Brazi’s Italian Restaurant and Via ZOOM\, 201 Food Terminal Plaza\, New Haven\, CT\, 06511
CATEGORIES:Board of Directors Meetings
END:VEVENT
BEGIN:VEVENT
DTSTART;TZID=America/New_York:20190409T180000
DTEND;TZID=America/New_York:20190409T200000
DTSTAMP:20260423T152914
CREATED:20180703T165534Z
LAST-MODIFIED:20190327T222614Z
UID:4407-1554832800-1554840000@amityclub.org
SUMMARY:Board of Directors Meeting
DESCRIPTION:Board of Directors Meeting
URL:https://amityclub.org/event/board-of-directors-meeting-50/
LOCATION:Brazi’s Italian Restaurant and Via ZOOM\, 201 Food Terminal Plaza\, New Haven\, CT\, 06511
CATEGORIES:Board of Directors Meetings
END:VEVENT
BEGIN:VEVENT
DTSTART;TZID=America/New_York:20190312T180000
DTEND;TZID=America/New_York:20190312T200000
DTSTAMP:20260423T152914
CREATED:20180703T165532Z
LAST-MODIFIED:20180703T165532Z
UID:4404-1552413600-1552420800@amityclub.org
SUMMARY:Board of Directors Meeting
DESCRIPTION:Board of Directors Meeting
URL:https://amityclub.org/event/board-of-directors-meeting-49/
LOCATION:CT
CATEGORIES:Board of Directors Meetings
END:VEVENT
BEGIN:VEVENT
DTSTART;TZID=America/New_York:20190212T180000
DTEND;TZID=America/New_York:20190212T200000
DTSTAMP:20260423T152914
CREATED:20180703T165532Z
LAST-MODIFIED:20180703T165532Z
UID:4401-1549994400-1550001600@amityclub.org
SUMMARY:Board of Directors Meeting
DESCRIPTION:Board of Directors Meeting
URL:https://amityclub.org/event/board-of-directors-meeting-48/
LOCATION:CT
CATEGORIES:Board of Directors Meetings
END:VEVENT
BEGIN:VEVENT
DTSTART;TZID=America/New_York:20190115T180000
DTEND;TZID=America/New_York:20190115T200000
DTSTAMP:20260423T152914
CREATED:20180703T165530Z
LAST-MODIFIED:20180703T165530Z
UID:4398-1547575200-1547582400@amityclub.org
SUMMARY:Board of Directors Meeting
DESCRIPTION:Board of Directors Meeting
URL:https://amityclub.org/event/board-of-directors-meeting-47/
LOCATION:CT
CATEGORIES:Board of Directors Meetings
END:VEVENT
BEGIN:VEVENT
DTSTART;TZID=America/New_York:20181210T180000
DTEND;TZID=America/New_York:20181210T200000
DTSTAMP:20260423T152914
CREATED:20180703T165528Z
LAST-MODIFIED:20180703T165528Z
UID:4395-1544464800-1544472000@amityclub.org
SUMMARY:Board of Directors Meeting
DESCRIPTION:Board of Directors Meeting
URL:https://amityclub.org/event/board-of-directors-meeting-46/
LOCATION:CT
CATEGORIES:Board of Directors Meetings
END:VEVENT
BEGIN:VEVENT
DTSTART;TZID=America/New_York:20181113T180000
DTEND;TZID=America/New_York:20181113T200000
DTSTAMP:20260423T152914
CREATED:20180703T165528Z
LAST-MODIFIED:20180703T165528Z
UID:4393-1542132000-1542139200@amityclub.org
SUMMARY:Board of Directors Meeting
DESCRIPTION:Board of Directors Meeting
URL:https://amityclub.org/event/board-of-directors-meeting-45/
LOCATION:CT
CATEGORIES:Board of Directors Meetings
END:VEVENT
BEGIN:VEVENT
DTSTART;TZID=America/New_York:20181009T180000
DTEND;TZID=America/New_York:20181009T200000
DTSTAMP:20260423T152914
CREATED:20180703T165523Z
LAST-MODIFIED:20180703T165523Z
UID:4390-1539108000-1539115200@amityclub.org
SUMMARY:Board of Directors Meeting
DESCRIPTION:Board of Directors Meeting
URL:https://amityclub.org/event/board-of-directors-meeting-44/
LOCATION:CT
CATEGORIES:Board of Directors Meetings
END:VEVENT
BEGIN:VEVENT
DTSTART;TZID=America/New_York:20180911T180000
DTEND;TZID=America/New_York:20180911T200000
DTSTAMP:20260423T152914
CREATED:20180703T165522Z
LAST-MODIFIED:20180703T165522Z
UID:4387-1536688800-1536696000@amityclub.org
SUMMARY:Board of Directors Meeting
DESCRIPTION:Board of Directors Meeting
URL:https://amityclub.org/event/board-of-directors-meeting-43/
LOCATION:CT
CATEGORIES:Board of Directors Meetings
END:VEVENT
BEGIN:VEVENT
DTSTART;TZID=America/New_York:20180612T180000
DTEND;TZID=America/New_York:20180612T200000
DTSTAMP:20260423T152914
CREATED:20170803T164309Z
LAST-MODIFIED:20170803T171420Z
UID:2563-1528826400-1528833600@amityclub.org
SUMMARY:Board of Directors Meeting
DESCRIPTION:Board of Directors Meeting
URL:https://amityclub.org/event/board-of-directors-meeting-32/
LOCATION:Brazi’s Italian Restaurant and Via ZOOM\, 201 Food Terminal Plaza\, New Haven\, CT\, 06511
CATEGORIES:Board of Directors Meetings
END:VEVENT
BEGIN:VEVENT
DTSTART;TZID=America/New_York:20180508T180000
DTEND;TZID=America/New_York:20180508T200000
DTSTAMP:20260423T152914
CREATED:20170803T164309Z
LAST-MODIFIED:20170803T171422Z
UID:2559-1525802400-1525809600@amityclub.org
SUMMARY:Board of Directors Meeting
DESCRIPTION:Board of Directors Meeting
URL:https://amityclub.org/event/board-of-directors-meeting-31/
LOCATION:Brazi’s Italian Restaurant and Via ZOOM\, 201 Food Terminal Plaza\, New Haven\, CT\, 06511
CATEGORIES:Board of Directors Meetings
END:VEVENT
BEGIN:VEVENT
DTSTART;TZID=America/New_York:20180410T180000
DTEND;TZID=America/New_York:20180410T200000
DTSTAMP:20260423T152914
CREATED:20170803T164309Z
LAST-MODIFIED:20170803T171424Z
UID:2556-1523383200-1523390400@amityclub.org
SUMMARY:Board of Directors Meeting
DESCRIPTION:Board of Directors Meeting
URL:https://amityclub.org/event/board-of-directors-meeting-30/
LOCATION:Brazi’s Italian Restaurant and Via ZOOM\, 201 Food Terminal Plaza\, New Haven\, CT\, 06511
CATEGORIES:Board of Directors Meetings
END:VEVENT
BEGIN:VEVENT
DTSTART;TZID=America/New_York:20180313T180000
DTEND;TZID=America/New_York:20180313T200000
DTSTAMP:20260423T152914
CREATED:20170803T164247Z
LAST-MODIFIED:20170803T171426Z
UID:2553-1520964000-1520971200@amityclub.org
SUMMARY:Board of Directors Meeting
DESCRIPTION:Board of Directors Meeting
URL:https://amityclub.org/event/board-of-directors-meeting-29/
LOCATION:Brazi’s Italian Restaurant and Via ZOOM\, 201 Food Terminal Plaza\, New Haven\, CT\, 06511
CATEGORIES:Board of Directors Meetings
END:VEVENT
BEGIN:VEVENT
DTSTART;TZID=America/New_York:20180213T180000
DTEND;TZID=America/New_York:20180213T200000
DTSTAMP:20260423T152914
CREATED:20170803T164247Z
LAST-MODIFIED:20170803T171428Z
UID:2550-1518544800-1518552000@amityclub.org
SUMMARY:Board of Directors Meeting
DESCRIPTION:Board of Directors Meeting
URL:https://amityclub.org/event/board-of-directors-meeting-28/
LOCATION:Brazi’s Italian Restaurant and Via ZOOM\, 201 Food Terminal Plaza\, New Haven\, CT\, 06511
CATEGORIES:Board of Directors Meetings
END:VEVENT
END:VCALENDAR