BEGIN:VCALENDAR
VERSION:2.0
PRODID:-//Amity Club of New Haven - ECPv6.15.20//NONSGML v1.0//EN
CALSCALE:GREGORIAN
METHOD:PUBLISH
X-ORIGINAL-URL:https://amityclub.org
X-WR-CALDESC:Events for Amity Club of New Haven
REFRESH-INTERVAL;VALUE=DURATION:PT1H
X-Robots-Tag:noindex
X-PUBLISHED-TTL:PT1H
BEGIN:VTIMEZONE
TZID:America/New_York
BEGIN:DAYLIGHT
TZOFFSETFROM:-0500
TZOFFSETTO:-0400
TZNAME:EDT
DTSTART:19690427T070000
END:DAYLIGHT
BEGIN:STANDARD
TZOFFSETFROM:-0400
TZOFFSETTO:-0500
TZNAME:EST
DTSTART:19691026T060000
END:STANDARD
BEGIN:DAYLIGHT
TZOFFSETFROM:-0500
TZOFFSETTO:-0400
TZNAME:EDT
DTSTART:19700426T070000
END:DAYLIGHT
BEGIN:STANDARD
TZOFFSETFROM:-0400
TZOFFSETTO:-0500
TZNAME:EST
DTSTART:19701025T060000
END:STANDARD
BEGIN:DAYLIGHT
TZOFFSETFROM:-0500
TZOFFSETTO:-0400
TZNAME:EDT
DTSTART:19710425T070000
END:DAYLIGHT
BEGIN:STANDARD
TZOFFSETFROM:-0400
TZOFFSETTO:-0500
TZNAME:EST
DTSTART:19711031T060000
END:STANDARD
END:VTIMEZONE
BEGIN:VEVENT
DTSTART;TZID=America/New_York:20260423T164836
DTEND;TZID=America/New_York:20260423T164836
DTSTAMP:20260423T164836
CREATED:20190617T194653Z
LAST-MODIFIED:20190617T200625Z
UID:5186-0-0@amityclub.org
SUMMARY:Regular Meeting (Closed - Members Only) - Amity Charitable Trust & Financial Reporting
DESCRIPTION:Regular Meeting (Closed – Members Only) – Amity Charitable Trust & Financial Reporting
URL:https://amityclub.org/event/regular-meeting-closed-members-only-amity-charitable-trust-financial-reporting/
LOCATION:CT
CATEGORIES:Regular Meeting (Closed)
END:VEVENT
BEGIN:VEVENT
DTSTART;TZID=America/New_York:20260423T164836
DTEND;TZID=America/New_York:20260423T164836
DTSTAMP:20260423T164836
CREATED:20190617T194648Z
LAST-MODIFIED:20190617T200621Z
UID:5180-0-0@amityclub.org
SUMMARY:Regular Meeting (Closed - Members Only) - President's Project Announcement
DESCRIPTION:Regular Meeting (Closed – Members Only) – President’s Project
URL:https://amityclub.org/event/regular-meeting-closed-members-only-presidents-project-announcement/
LOCATION:CT
CATEGORIES:Regular Meeting (Closed)
END:VEVENT
END:VCALENDAR