BEGIN:VCALENDAR
VERSION:2.0
PRODID:-//Amity Club of New Haven - ECPv6.15.20//NONSGML v1.0//EN
CALSCALE:GREGORIAN
METHOD:PUBLISH
X-ORIGINAL-URL:https://amityclub.org
X-WR-CALDESC:Events for Amity Club of New Haven
REFRESH-INTERVAL;VALUE=DURATION:PT1H
X-Robots-Tag:noindex
X-PUBLISHED-TTL:PT1H
BEGIN:VTIMEZONE
TZID:America/New_York
BEGIN:DAYLIGHT
TZOFFSETFROM:-0500
TZOFFSETTO:-0400
TZNAME:EDT
DTSTART:20170312T070000
END:DAYLIGHT
BEGIN:STANDARD
TZOFFSETFROM:-0400
TZOFFSETTO:-0500
TZNAME:EST
DTSTART:20171105T060000
END:STANDARD
BEGIN:DAYLIGHT
TZOFFSETFROM:-0500
TZOFFSETTO:-0400
TZNAME:EDT
DTSTART:20180311T070000
END:DAYLIGHT
BEGIN:STANDARD
TZOFFSETFROM:-0400
TZOFFSETTO:-0500
TZNAME:EST
DTSTART:20181104T060000
END:STANDARD
BEGIN:DAYLIGHT
TZOFFSETFROM:-0500
TZOFFSETTO:-0400
TZNAME:EDT
DTSTART:20190310T070000
END:DAYLIGHT
BEGIN:STANDARD
TZOFFSETFROM:-0400
TZOFFSETTO:-0500
TZNAME:EST
DTSTART:20191103T060000
END:STANDARD
BEGIN:DAYLIGHT
TZOFFSETFROM:-0500
TZOFFSETTO:-0400
TZNAME:EDT
DTSTART:20200308T070000
END:DAYLIGHT
BEGIN:STANDARD
TZOFFSETFROM:-0400
TZOFFSETTO:-0500
TZNAME:EST
DTSTART:20201101T060000
END:STANDARD
BEGIN:DAYLIGHT
TZOFFSETFROM:-0500
TZOFFSETTO:-0400
TZNAME:EDT
DTSTART:20210314T070000
END:DAYLIGHT
BEGIN:STANDARD
TZOFFSETFROM:-0400
TZOFFSETTO:-0500
TZNAME:EST
DTSTART:20211107T060000
END:STANDARD
END:VTIMEZONE
BEGIN:VEVENT
DTSTART;TZID=America/New_York:20200121T170000
DTEND;TZID=America/New_York:20200121T200000
DTSTAMP:20260423T151133
CREATED:20190617T203148Z
LAST-MODIFIED:20190617T203826Z
UID:5301-1579626000-1579636800@amityclub.org
SUMMARY:Regular Meeting (Open to Guests) - Induction of New Members
DESCRIPTION:Regular Meeting (Open To Guests) Induction of New Members
URL:https://amityclub.org/event/regular-meeting-open-to-guests-induction-of-new-members-2/
LOCATION:Anthony’s Ocean View\, 450 Lighthouse Road\, New Haven\, CT\, 06512
CATEGORIES:Regular Meeting (Open)
END:VEVENT
BEGIN:VEVENT
DTSTART;TZID=America/New_York:20200107T170000
DTEND;TZID=America/New_York:20200107T200000
DTSTAMP:20260423T151133
CREATED:20190617T203148Z
LAST-MODIFIED:20190617T203826Z
UID:5299-1578416400-1578427200@amityclub.org
SUMMARY:Regular Meeting (Open to Guests) - Sons & Daughters Night - Speaker
DESCRIPTION:Regular Meeting (Open To Guests) – Sons & Daughters Night – Guest Speaker (TBA)
URL:https://amityclub.org/event/regular-meeting-open-to-guests-sons-daughters-night-speaker-2/
LOCATION:Anthony’s Ocean View\, 450 Lighthouse Road\, New Haven\, CT\, 06512
CATEGORIES:Regular Meeting (Open)
END:VEVENT
BEGIN:VEVENT
DTSTART;TZID=America/New_York:20191210T180000
DTEND;TZID=America/New_York:20191210T220000
DTSTAMP:20260423T151133
CREATED:20190617T203147Z
LAST-MODIFIED:20190617T203826Z
UID:5298-1576000800-1576015200@amityclub.org
SUMMARY:Christmas Party For Adults - (Open to Guests)
DESCRIPTION:Christmas Party For Adults – (Open To Guests) Click here to view flyer  
URL:https://amityclub.org/event/christmas-party-for-adults-open-to-guests-2/
LOCATION:Anthony’s Ocean View\, 450 Lighthouse Road\, New Haven\, CT\, 06512
CATEGORIES:Regular Meeting (Open)
END:VEVENT
BEGIN:VEVENT
DTSTART;TZID=America/New_York:20191119T170000
DTEND;TZID=America/New_York:20191119T200000
DTSTAMP:20260423T151133
CREATED:20190617T203146Z
LAST-MODIFIED:20190617T203822Z
UID:5296-1574182800-1574193600@amityclub.org
SUMMARY:Regular Meeting (Open to Guests) - Frank Rubino Night
DESCRIPTION:Regular Meeting (Open To Guests) – Frank Rubino Night
URL:https://amityclub.org/event/regular-meeting-open-to-guests-frank-rubino-night-2/
LOCATION:Anthony’s Ocean View\, 450 Lighthouse Road\, New Haven\, CT\, 06512
CATEGORIES:Regular Meeting (Open)
END:VEVENT
BEGIN:VEVENT
DTSTART;TZID=America/New_York:20191015T170000
DTEND;TZID=America/New_York:20191015T200000
DTSTAMP:20260423T151133
CREATED:20190617T203145Z
LAST-MODIFIED:20190617T203822Z
UID:5293-1571158800-1571169600@amityclub.org
SUMMARY:Regular Meeting (Open to Guests) - Speaker
DESCRIPTION:Regular Meeting (Open To Guests) – Speaker
URL:https://amityclub.org/event/regular-meeting-open-to-guests-speaker-2/
LOCATION:Anthony’s Ocean View\, 450 Lighthouse Road\, New Haven\, CT\, 06512
CATEGORIES:Regular Meeting (Open)
END:VEVENT
BEGIN:VEVENT
DTSTART;TZID=America/New_York:20191001T170000
DTEND;TZID=America/New_York:20191001T200000
DTSTAMP:20260423T151133
CREATED:20190617T203141Z
LAST-MODIFIED:20190618T161259Z
UID:5291-1569949200-1569960000@amityclub.org
SUMMARY:Regular Meeting (Open to Guests) - Speaker
DESCRIPTION:Regular Meeting (Open To Guests) – Guest Speaker (TBA)
URL:https://amityclub.org/event/regular-meeting-open-to-guests-prospective-members-night-speaker-3/
LOCATION:Anthony’s Ocean View\, 450 Lighthouse Road\, New Haven\, CT\, 06512
CATEGORIES:Regular Meeting (Open)
END:VEVENT
BEGIN:VEVENT
DTSTART;TZID=America/New_York:20190917T170000
DTEND;TZID=America/New_York:20190917T200000
DTSTAMP:20260423T151133
CREATED:20190617T203141Z
LAST-MODIFIED:20190618T161313Z
UID:5290-1568739600-1568750400@amityclub.org
SUMMARY:Regular Meeting (Open to Guests) - Speaker
DESCRIPTION:Regular Meeting (Open To Guests) – Guest Speaker (TBA)
URL:https://amityclub.org/event/regular-meeting-open-to-guests-prospective-members-night-speaker-2/
LOCATION:Anthony’s Ocean View\, 450 Lighthouse Road\, New Haven\, CT\, 06512
CATEGORIES:Regular Meeting (Open)
END:VEVENT
BEGIN:VEVENT
DTSTART;TZID=America/New_York:20190614T180000
DTEND;TZID=America/New_York:20190614T230000
DTSTAMP:20260423T151133
CREATED:20180703T165537Z
LAST-MODIFIED:20190503T190353Z
UID:4413-1560535200-1560553200@amityclub.org
SUMMARY:2019 Inaugural Ball
DESCRIPTION:Inaugural Ball (Open To Guests)
URL:https://amityclub.org/event/2018-inaugural-ball-open-2/
LOCATION:Anthony’s Ocean View\, 450 Lighthouse Road\, New Haven\, CT\, 06512
CATEGORIES:Regular Meeting (Open),Special Event
ORGANIZER;CN="Joe Palmucci":MAILTO:palmucci@yahoo.com
END:VEVENT
BEGIN:VEVENT
DTSTART;TZID=America/New_York:20190604T170000
DTEND;TZID=America/New_York:20190604T200000
DTSTAMP:20260423T151133
CREATED:20180703T165537Z
LAST-MODIFIED:20190327T222315Z
UID:4412-1559667600-1559678400@amityclub.org
SUMMARY:Regular Meeting (Open) - Scholarship Awards Night
DESCRIPTION:Regular Meeting (Open To Guests) Guest Speaker (TBA)
URL:https://amityclub.org/event/regular-meeting-open-scholarship-awards-night-2/
LOCATION:Anthony’s Ocean View\, 450 Lighthouse Road\, New Haven\, CT\, 06512
CATEGORIES:Regular Meeting (Open),Special Event
END:VEVENT
BEGIN:VEVENT
DTSTART;TZID=America/New_York:20190521T170000
DTEND;TZID=America/New_York:20190521T200000
DTSTAMP:20260423T151133
CREATED:20180703T165537Z
LAST-MODIFIED:20190327T222454Z
UID:4411-1558458000-1558468800@amityclub.org
SUMMARY:Regular Meeting (Open) - Worthy Projects
DESCRIPTION:Regular Meeting (Open To Guests) – Worthy Projects
URL:https://amityclub.org/event/regular-meeting-open-worthy-projects-4/
LOCATION:Anthony’s Ocean View\, 450 Lighthouse Road\, New Haven\, CT\, 06512
CATEGORIES:Regular Meeting (Open),Special Event
END:VEVENT
BEGIN:VEVENT
DTSTART;TZID=America/New_York:20190416T170000
DTEND;TZID=America/New_York:20190416T200000
DTSTAMP:20260423T151133
CREATED:20180703T165535Z
LAST-MODIFIED:20190327T222607Z
UID:4408-1555434000-1555444800@amityclub.org
SUMMARY:Regular Meeting (Open) - Speaker
DESCRIPTION:Regular Meeting (Open To Guests) Guest Speaker (TBA)
URL:https://amityclub.org/event/regular-meeting-open-speaker-19/
LOCATION:Anthony’s Ocean View\, 450 Lighthouse Road\, New Haven\, CT\, 06512
CATEGORIES:Regular Meeting (Open)
END:VEVENT
BEGIN:VEVENT
DTSTART;TZID=America/New_York:20190319T170000
DTEND;TZID=America/New_York:20190319T200000
DTSTAMP:20260423T151133
CREATED:20180703T165533Z
LAST-MODIFIED:20190327T222625Z
UID:4405-1553014800-1553025600@amityclub.org
SUMMARY:Regular Meeting (Open) - Speaker
DESCRIPTION:Regular Meeting (Open To Guests) Guest Speaker (TBA)
URL:https://amityclub.org/event/regular-meeting-open-speaker-18/
LOCATION:Anthony’s Ocean View\, 450 Lighthouse Road\, New Haven\, CT\, 06512
CATEGORIES:Regular Meeting (Open)
END:VEVENT
BEGIN:VEVENT
DTSTART;TZID=America/New_York:20190305T170000
DTEND;TZID=America/New_York:20190305T200000
DTSTAMP:20260423T151133
CREATED:20180703T165532Z
LAST-MODIFIED:20180703T165532Z
UID:4403-1551805200-1551816000@amityclub.org
SUMMARY:Regular Meeting (Open) - Speaker
DESCRIPTION:Regular Meeting (Open To Guests) Guest Speaker (TBA)
URL:https://amityclub.org/event/regular-meeting-open-speaker-17/
LOCATION:CT
CATEGORIES:Regular Meeting (Open)
END:VEVENT
BEGIN:VEVENT
DTSTART;TZID=America/New_York:20190219T170000
DTEND;TZID=America/New_York:20190219T200000
DTSTAMP:20260423T151133
CREATED:20180703T165532Z
LAST-MODIFIED:20180703T165532Z
UID:4402-1550595600-1550606400@amityclub.org
SUMMARY:Regular Meeting (Open) - Prospective Members’ Night - Speaker
DESCRIPTION:Regular Meeting (Open To Guests) – Prospective Members’ Night – Guest Speaker (TBA)
URL:https://amityclub.org/event/regular-meeting-open-prospective-members-night-speaker-19/
LOCATION:CT
CATEGORIES:Regular Meeting (Open)
END:VEVENT
BEGIN:VEVENT
DTSTART;TZID=America/New_York:20190205T170000
DTEND;TZID=America/New_York:20190205T200000
DTSTAMP:20260423T151133
CREATED:20180703T165530Z
LAST-MODIFIED:20180703T165530Z
UID:4400-1549386000-1549396800@amityclub.org
SUMMARY:Regular Meeting (Open) - Prospective Members’ Night - Speaker
DESCRIPTION:Regular Meeting (Open To Guests) – Prospective Members’ Night – Guest Speaker (TBA)
URL:https://amityclub.org/event/regular-meeting-open-prospective-members-night-speaker-18/
LOCATION:CT
CATEGORIES:Regular Meeting (Open)
END:VEVENT
BEGIN:VEVENT
DTSTART;TZID=America/New_York:20190122T170000
DTEND;TZID=America/New_York:20190122T200000
DTSTAMP:20260423T151133
CREATED:20180703T165530Z
LAST-MODIFIED:20180703T165530Z
UID:4399-1548176400-1548187200@amityclub.org
SUMMARY:Regular Meeting (Open) - Induction of New Members
DESCRIPTION:Regular Meeting (Open To Guests) Induction of New Members
URL:https://amityclub.org/event/regular-meeting-open-induction-of-new-members-5/
LOCATION:CT
CATEGORIES:Regular Meeting (Open)
END:VEVENT
BEGIN:VEVENT
DTSTART;TZID=America/New_York:20190108T170000
DTEND;TZID=America/New_York:20190108T200000
DTSTAMP:20260423T151133
CREATED:20180703T165530Z
LAST-MODIFIED:20180703T165530Z
UID:4397-1546966800-1546977600@amityclub.org
SUMMARY:Regular Meeting (Open) - Sons’ & Daughters’ Night - Speaker
DESCRIPTION:Regular Meeting (Open To Guests) – Sons’ & Daughters’ Night – Guest Speaker (TBA)
URL:https://amityclub.org/event/regular-meeting-open-sons-daughters-night-speaker-5/
LOCATION:CT
CATEGORIES:Regular Meeting (Open)
END:VEVENT
BEGIN:VEVENT
DTSTART;TZID=America/New_York:20181211T180000
DTEND;TZID=America/New_York:20181211T220000
DTSTAMP:20260423T151133
CREATED:20180703T165529Z
LAST-MODIFIED:20180703T165529Z
UID:4396-1544551200-1544565600@amityclub.org
SUMMARY:Christmas Party For Adults - (Open)
DESCRIPTION:Christmas Party For Adults – (Open To Guests) Click here to view flyer  
URL:https://amityclub.org/event/christmas-party-for-adults-open-3/
LOCATION:CT
CATEGORIES:Regular Meeting (Open)
END:VEVENT
BEGIN:VEVENT
DTSTART;TZID=America/New_York:20181120T170000
DTEND;TZID=America/New_York:20181120T200000
DTSTAMP:20260423T151133
CREATED:20180703T165528Z
LAST-MODIFIED:20180703T165528Z
UID:4394-1542733200-1542744000@amityclub.org
SUMMARY:Regular Meeting (Open) - Frank Rubino Night
DESCRIPTION:Regular Meeting (Open To Guests) – Frank Rubino Night
URL:https://amityclub.org/event/regular-meeting-open-frank-rubino-night-5/
LOCATION:CT
CATEGORIES:Regular Meeting (Open)
END:VEVENT
BEGIN:VEVENT
DTSTART;TZID=America/New_York:20181016T170000
DTEND;TZID=America/New_York:20181016T200000
DTSTAMP:20260423T151133
CREATED:20180703T165527Z
LAST-MODIFIED:20180703T165527Z
UID:4391-1539709200-1539720000@amityclub.org
SUMMARY:Regular Meeting (Open) - Speaker
DESCRIPTION:Regular Meeting (Open) – Speaker
URL:https://amityclub.org/event/regular-meeting-open-speaker-16/
LOCATION:CT
CATEGORIES:Regular Meeting (Open)
END:VEVENT
BEGIN:VEVENT
DTSTART;TZID=America/New_York:20181002T170000
DTEND;TZID=America/New_York:20181002T200000
DTSTAMP:20260423T151133
CREATED:20180703T165523Z
LAST-MODIFIED:20180703T165523Z
UID:4389-1538499600-1538510400@amityclub.org
SUMMARY:Regular Meeting (Open) - Prospective Members’ Night - Speaker
DESCRIPTION:Regular Meeting (Open To Guests) – Prospective Members’ Night – Guest Speaker (TBA)
URL:https://amityclub.org/event/regular-meeting-open-prospective-members-night-speaker-17/
LOCATION:CT
CATEGORIES:Regular Meeting (Open)
END:VEVENT
BEGIN:VEVENT
DTSTART;TZID=America/New_York:20180918T170000
DTEND;TZID=America/New_York:20180918T200000
DTSTAMP:20260423T151133
CREATED:20180703T165522Z
LAST-MODIFIED:20180703T165522Z
UID:4388-1537290000-1537300800@amityclub.org
SUMMARY:Regular Meeting (Open) - Prospective Members’ Night - Speaker
DESCRIPTION:Regular Meeting (Open To Guests) – Prospective Members’ Night – Guest Speaker (TBA)
URL:https://amityclub.org/event/regular-meeting-open-prospective-members-night-speaker-16/
LOCATION:CT
CATEGORIES:Regular Meeting (Open)
END:VEVENT
BEGIN:VEVENT
DTSTART;TZID=America/New_York:20180605T171500
DTEND;TZID=America/New_York:20180605T201500
DTSTAMP:20260423T151133
CREATED:20170803T164309Z
LAST-MODIFIED:20170803T202403Z
UID:2561-1528218900-1528229700@amityclub.org
SUMMARY:Scholarship Awards Night - Regular Meeting (Open)
DESCRIPTION:Regular Meeting (Open To Guests) Guest Speaker (TBA)
URL:https://amityclub.org/event/scholarship-awards-night-regular-meeting-open/
LOCATION:Anthony’s Ocean View\, 450 Lighthouse Road\, New Haven\, CT\, 06512
CATEGORIES:Regular Meeting (Open),Special Event
END:VEVENT
BEGIN:VEVENT
DTSTART;TZID=America/New_York:20180515T171500
DTEND;TZID=America/New_York:20180515T201500
DTSTAMP:20260423T151133
CREATED:20170803T164309Z
LAST-MODIFIED:20170803T202319Z
UID:2560-1526404500-1526415300@amityclub.org
SUMMARY:Worthy Projects - Regular Meeting (Open)
DESCRIPTION:Regular Meeting (Open To Guests) – Worthy Projects
URL:https://amityclub.org/event/worthy-projects-regular-meeting-open/
LOCATION:Anthony’s Ocean View\, 450 Lighthouse Road\, New Haven\, CT\, 06512
CATEGORIES:Regular Meeting (Open),Special Event
END:VEVENT
BEGIN:VEVENT
DTSTART;TZID=America/New_York:20180417T171500
DTEND;TZID=America/New_York:20180417T201500
DTSTAMP:20260423T151133
CREATED:20170803T164309Z
LAST-MODIFIED:20170803T170040Z
UID:2557-1523985300-1523996100@amityclub.org
SUMMARY:Regular Meeting (Open) - Speaker
DESCRIPTION:Regular Meeting (Open To Guests) Guest Speaker (TBA)
URL:https://amityclub.org/event/regular-meeting-open-speaker-11/
LOCATION:Anthony’s Ocean View\, 450 Lighthouse Road\, New Haven\, CT\, 06512
CATEGORIES:Regular Meeting (Open)
END:VEVENT
BEGIN:VEVENT
DTSTART;TZID=America/New_York:20180320T171500
DTEND;TZID=America/New_York:20180320T201500
DTSTAMP:20260423T151133
CREATED:20170803T164247Z
LAST-MODIFIED:20170803T170049Z
UID:2554-1521566100-1521576900@amityclub.org
SUMMARY:Regular Meeting (Open) - Speaker
DESCRIPTION:Regular Meeting (Open To Guests) Guest Speaker (TBA)
URL:https://amityclub.org/event/regular-meeting-open-speaker-10/
LOCATION:Anthony’s Ocean View\, 450 Lighthouse Road\, New Haven\, CT\, 06512
CATEGORIES:Regular Meeting (Open)
END:VEVENT
BEGIN:VEVENT
DTSTART;TZID=America/New_York:20180306T171500
DTEND;TZID=America/New_York:20180306T201500
DTSTAMP:20260423T151133
CREATED:20170803T164247Z
LAST-MODIFIED:20170803T170052Z
UID:2552-1520356500-1520367300@amityclub.org
SUMMARY:Regular Meeting (Open) - Speaker
DESCRIPTION:Regular Meeting (Open To Guests) Guest Speaker (TBA)
URL:https://amityclub.org/event/regular-meeting-open-speaker-9/
LOCATION:Anthony’s Ocean View\, 450 Lighthouse Road\, New Haven\, CT\, 06512
CATEGORIES:Regular Meeting (Open)
END:VEVENT
BEGIN:VEVENT
DTSTART;TZID=America/New_York:20180220T171500
DTEND;TZID=America/New_York:20180220T201500
DTSTAMP:20260423T151133
CREATED:20170803T164247Z
LAST-MODIFIED:20170803T170055Z
UID:2551-1519146900-1519157700@amityclub.org
SUMMARY:Regular Meeting (Open) - Prospective Members’ Night - Speaker
DESCRIPTION:Regular Meeting (Open To Guests) – Prospective Members’ Night – Guest Speaker (TBA)
URL:https://amityclub.org/event/regular-meeting-open-prospective-members-night-speaker-15/
LOCATION:Anthony’s Ocean View\, 450 Lighthouse Road\, New Haven\, CT\, 06512
CATEGORIES:Regular Meeting (Open)
END:VEVENT
BEGIN:VEVENT
DTSTART;TZID=America/New_York:20180206T171500
DTEND;TZID=America/New_York:20180206T201500
DTSTAMP:20260423T151133
CREATED:20170803T164247Z
LAST-MODIFIED:20170803T170058Z
UID:2549-1517937300-1517948100@amityclub.org
SUMMARY:Regular Meeting (Open) - Prospective Members’ Night - Speaker
DESCRIPTION:Regular Meeting (Open To Guests) – Prospective Members’ Night – Guest Speaker (TBA)
URL:https://amityclub.org/event/regular-meeting-open-prospective-members-night-speaker-14/
LOCATION:Anthony’s Ocean View\, 450 Lighthouse Road\, New Haven\, CT\, 06512
CATEGORIES:Regular Meeting (Open)
END:VEVENT
BEGIN:VEVENT
DTSTART;TZID=America/New_York:20180116T171500
DTEND;TZID=America/New_York:20180116T201500
DTSTAMP:20260423T151133
CREATED:20170803T164247Z
LAST-MODIFIED:20170803T170101Z
UID:2548-1516122900-1516133700@amityclub.org
SUMMARY:Regular Meeting (Open) - Induction of New Members
DESCRIPTION:Regular Meeting (Open To Guests) Induction of New Members
URL:https://amityclub.org/event/regular-meeting-open-induction-of-new-members-3/
LOCATION:Anthony’s Ocean View\, 450 Lighthouse Road\, New Haven\, CT\, 06512
CATEGORIES:Regular Meeting (Open)
END:VEVENT
END:VCALENDAR