BEGIN:VCALENDAR
VERSION:2.0
PRODID:-//Amity Club of New Haven - ECPv6.15.20//NONSGML v1.0//EN
CALSCALE:GREGORIAN
METHOD:PUBLISH
X-WR-CALNAME:Amity Club of New Haven
X-ORIGINAL-URL:https://amityclub.org
X-WR-CALDESC:Events for Amity Club of New Haven
REFRESH-INTERVAL;VALUE=DURATION:PT1H
X-Robots-Tag:noindex
X-PUBLISHED-TTL:PT1H
BEGIN:VTIMEZONE
TZID:America/New_York
BEGIN:DAYLIGHT
TZOFFSETFROM:-0500
TZOFFSETTO:-0400
TZNAME:EDT
DTSTART:20220313T070000
END:DAYLIGHT
BEGIN:STANDARD
TZOFFSETFROM:-0400
TZOFFSETTO:-0500
TZNAME:EST
DTSTART:20221106T060000
END:STANDARD
BEGIN:DAYLIGHT
TZOFFSETFROM:-0500
TZOFFSETTO:-0400
TZNAME:EDT
DTSTART:20230312T070000
END:DAYLIGHT
BEGIN:STANDARD
TZOFFSETFROM:-0400
TZOFFSETTO:-0500
TZNAME:EST
DTSTART:20231105T060000
END:STANDARD
BEGIN:DAYLIGHT
TZOFFSETFROM:-0500
TZOFFSETTO:-0400
TZNAME:EDT
DTSTART:20240310T070000
END:DAYLIGHT
BEGIN:STANDARD
TZOFFSETFROM:-0400
TZOFFSETTO:-0500
TZNAME:EST
DTSTART:20241103T060000
END:STANDARD
BEGIN:DAYLIGHT
TZOFFSETFROM:-0500
TZOFFSETTO:-0400
TZNAME:EDT
DTSTART:20250309T070000
END:DAYLIGHT
BEGIN:STANDARD
TZOFFSETFROM:-0400
TZOFFSETTO:-0500
TZNAME:EST
DTSTART:20251102T060000
END:STANDARD
BEGIN:DAYLIGHT
TZOFFSETFROM:-0500
TZOFFSETTO:-0400
TZNAME:EDT
DTSTART:20260308T070000
END:DAYLIGHT
BEGIN:STANDARD
TZOFFSETFROM:-0400
TZOFFSETTO:-0500
TZNAME:EST
DTSTART:20261101T060000
END:STANDARD
BEGIN:DAYLIGHT
TZOFFSETFROM:-0500
TZOFFSETTO:-0400
TZNAME:EDT
DTSTART:20270314T070000
END:DAYLIGHT
BEGIN:STANDARD
TZOFFSETFROM:-0400
TZOFFSETTO:-0500
TZNAME:EST
DTSTART:20271107T060000
END:STANDARD
END:VTIMEZONE
BEGIN:VEVENT
DTSTART;TZID=America/New_York:20260303T170000
DTEND;TZID=America/New_York:20260303T210000
DTSTAMP:20260423T094715
CREATED:20260210T144316Z
LAST-MODIFIED:20260210T144316Z
UID:424923-1772557200-1772571600@amityclub.org
SUMMARY:Amity Meeting
DESCRIPTION:
URL:https://amityclub.org/event/amity-meeting-03-03-2026/
LOCATION:Anthony’s Ocean View\, 450 Lighthouse Road\, New Haven\, CT\, 06512
CATEGORIES:Regular Meeting (Open)
END:VEVENT
BEGIN:VEVENT
DTSTART;VALUE=DATE:20260301
DTEND;VALUE=DATE:20260302
DTSTAMP:20260423T094715
CREATED:20260210T144201Z
LAST-MODIFIED:20260210T144201Z
UID:424921-1772323200-1772409599@amityclub.org
SUMMARY:New Member Applications Due For May Induction
DESCRIPTION:
URL:https://amityclub.org/event/new-member-applications-due-for-may-induction-03-01-2026/
LOCATION:CT
CATEGORIES:Special Event
END:VEVENT
BEGIN:VEVENT
DTSTART;TZID=America/New_York:20260217T170000
DTEND;TZID=America/New_York:20260217T210000
DTSTAMP:20260423T094715
CREATED:20260210T143823Z
LAST-MODIFIED:20260210T143823Z
UID:424919-1771347600-1771362000@amityclub.org
SUMMARY:Amity Meeting
DESCRIPTION:
URL:https://amityclub.org/event/amity-meeting-02-17-2026/
LOCATION:Anthony’s Ocean View\, 450 Lighthouse Road\, New Haven\, CT\, 06512
CATEGORIES:Regular Meeting (Open)
END:VEVENT
BEGIN:VEVENT
DTSTART;TZID=America/New_York:20251216T180000
DTEND;TZID=America/New_York:20251216T220000
DTSTAMP:20260423T094715
CREATED:20251202T171458Z
LAST-MODIFIED:20251202T171458Z
UID:424708-1765908000-1765922400@amityclub.org
SUMMARY:Amity Club Annual Christmas Party
DESCRIPTION:
URL:https://amityclub.org/event/2025-amity-club-annual-christmas-party/
LOCATION:Anthony’s Ocean View\, 450 Lighthouse Road\, New Haven\, CT\, 06512
CATEGORIES:Special Event
END:VEVENT
BEGIN:VEVENT
DTSTART;TZID=America/New_York:20251106T180000
DTEND;TZID=America/New_York:20251106T203000
DTSTAMP:20260423T094715
CREATED:20250501T150642Z
LAST-MODIFIED:20250501T150642Z
UID:424668-1762452000-1762461000@amityclub.org
SUMMARY:2025 Wine Tasting
DESCRIPTION:
URL:https://amityclub.org/event/2025-wine-tasting/
LOCATION:The Woodwinds\, 29 School Ground Rd\, Branford\, CT\, 06405\, United States
CATEGORIES:Special Event
END:VEVENT
BEGIN:VEVENT
DTSTART;TZID=America/New_York:20250804T100000
DTEND;TZID=America/New_York:20250804T180000
DTSTAMP:20260423T094715
CREATED:20250501T145907Z
LAST-MODIFIED:20250501T150010Z
UID:424665-1754301600-1754330400@amityclub.org
SUMMARY:2025 Amity Club Golf Classic
DESCRIPTION:
URL:https://amityclub.org/event/424665/
LOCATION:Wallingford Country Club\, 195 Long Hill Road\, Wallingford\, 06492
CATEGORIES:Special Event
END:VEVENT
BEGIN:VEVENT
DTSTART;TZID=America/New_York:20241101T180000
DTEND;TZID=America/New_York:20241101T203000
DTSTAMP:20260423T094715
CREATED:20240917T154446Z
LAST-MODIFIED:20240917T154817Z
UID:424583-1730484000-1730493000@amityclub.org
SUMMARY:2024 ACT Wine Tasting Event
DESCRIPTION:
URL:https://amityclub.org/event/2024-act-wine-tasting-event/
LOCATION:The Woodwinds\, 29 School Ground Rd\, Branford\, CT\, 06405\, United States
CATEGORIES:Special Event
END:VEVENT
BEGIN:VEVENT
DTSTART;TZID=America/New_York:20240805T100000
DTEND;TZID=America/New_York:20240805T180000
DTSTAMP:20260423T094715
CREATED:20240620T121943Z
LAST-MODIFIED:20240620T122658Z
UID:424557-1722852000-1722880800@amityclub.org
SUMMARY:41st Twohill Cup - Amity Club Golf Classic
DESCRIPTION:
URL:https://amityclub.org/event/424557/
LOCATION:Wallingford Country Club\, 195 Long Hill Road\, Wallingford\, 06492
CATEGORIES:Special Event
END:VEVENT
BEGIN:VEVENT
DTSTART;TZID=America/New_York:20240720T120000
DTEND;TZID=America/New_York:20240720T170000
DTSTAMP:20260423T094715
CREATED:20240607T130108Z
LAST-MODIFIED:20240607T130418Z
UID:424419-1721476800-1721494800@amityclub.org
SUMMARY:Amity Picnic
DESCRIPTION:
URL:https://amityclub.org/event/amity-picnic/
LOCATION:Branford Yacht Club\, 39 Goodsell Point Rd\, Branford\, CT\, 06405\, United States
CATEGORIES:Special Event
END:VEVENT
BEGIN:VEVENT
DTSTART;TZID=America/New_York:20240618T173000
DTEND;TZID=America/New_York:20240618T200000
DTSTAMP:20260423T094715
CREATED:20230905T180932Z
LAST-MODIFIED:20230905T181025Z
UID:424274-1718731800-1718740800@amityclub.org
SUMMARY:Amity Meeting - President’s Farewell Meeting
DESCRIPTION: 
URL:https://amityclub.org/event/amity-meeting-presidents-farewell-meeting-6-18-2024/
LOCATION:Anthony’s Ocean View\, 450 Lighthouse Road\, New Haven\, CT\, 06512
CATEGORIES:Regular Meeting (Closed)
END:VEVENT
BEGIN:VEVENT
DTSTART;TZID=America/New_York:20240607T173000
DTEND;TZID=America/New_York:20240607T200000
DTSTAMP:20260423T094715
CREATED:20230905T180758Z
LAST-MODIFIED:20230905T180857Z
UID:424272-1717781400-1717790400@amityclub.org
SUMMARY:Amity Meeting - President’s Inaugural Ball
DESCRIPTION: 
URL:https://amityclub.org/event/amity-meeting-presidents-inaugural-ball-6-7-2024/
LOCATION:Anthony’s Ocean View\, 450 Lighthouse Road\, New Haven\, CT\, 06512
CATEGORIES:Regular Meeting (Open),Special Event
END:VEVENT
BEGIN:VEVENT
DTSTART;TZID=America/New_York:20240604T173000
DTEND;TZID=America/New_York:20240604T200000
DTSTAMP:20260423T094715
CREATED:20230905T180549Z
LAST-MODIFIED:20230905T180650Z
UID:424270-1717522200-1717531200@amityclub.org
SUMMARY:Amity Meeting - Scholarship Night
DESCRIPTION: 
URL:https://amityclub.org/event/amity-meeting-scholarship-night-6-4-2024/
LOCATION:Anthony’s Ocean View\, 450 Lighthouse Road\, New Haven\, CT\, 06512
CATEGORIES:Regular Meeting (Open),Special Event
END:VEVENT
BEGIN:VEVENT
DTSTART;TZID=America/New_York:20240521T173000
DTEND;TZID=America/New_York:20240521T200000
DTSTAMP:20260423T094715
CREATED:20230905T180339Z
LAST-MODIFIED:20230905T180510Z
UID:424268-1716312600-1716321600@amityclub.org
SUMMARY:Amity Meeting - Worthy Projects Night
DESCRIPTION: 
URL:https://amityclub.org/event/amity-meeting-worthy-projects-night-5-21-2024/
LOCATION:Anthony’s Ocean View\, 450 Lighthouse Road\, New Haven\, CT\, 06512
CATEGORIES:Regular Meeting (Open),Special Event
END:VEVENT
BEGIN:VEVENT
DTSTART;TZID=America/New_York:20240507T173000
DTEND;TZID=America/New_York:20240507T200000
DTSTAMP:20260423T094715
CREATED:20230905T180145Z
LAST-MODIFIED:20230905T180241Z
UID:424266-1715103000-1715112000@amityclub.org
SUMMARY:Amity Meeting - New Member Induction & Election of Directors
DESCRIPTION: 
URL:https://amityclub.org/event/amity-meeting-new-member-induction-election-of-directors-5-7-2024/
LOCATION:Anthony’s Ocean View\, 450 Lighthouse Road\, New Haven\, CT\, 06512
CATEGORIES:Regular Meeting (Closed)
END:VEVENT
BEGIN:VEVENT
DTSTART;TZID=America/New_York:20240426T170000
DTEND;TZID=America/New_York:20240426T210000
DTSTAMP:20260423T094715
CREATED:20240227T151042Z
LAST-MODIFIED:20240227T152802Z
UID:424353-1714150800-1714165200@amityclub.org
SUMMARY:Cigar Night - President's Project - A Fundraiser to Benefit Veterans
DESCRIPTION:
URL:https://amityclub.org/event/cigar-night-a-fundraiser-to-benefit-veterans/
LOCATION:Vanguard Cigar Club\, 803 West Main Street\, Branford\, CT\, 06405\, United States
END:VEVENT
BEGIN:VEVENT
DTSTART;TZID=America/New_York:20240416T173000
DTEND;TZID=America/New_York:20240416T200000
DTSTAMP:20260423T094715
CREATED:20230905T175734Z
LAST-MODIFIED:20230905T175812Z
UID:424264-1713288600-1713297600@amityclub.org
SUMMARY:Amity Meeting
DESCRIPTION: 
URL:https://amityclub.org/event/amity-meeting-4-16-2024/
LOCATION:Anthony’s Ocean View\, 450 Lighthouse Road\, New Haven\, CT\, 06512
CATEGORIES:Regular Meeting (Open)
END:VEVENT
BEGIN:VEVENT
DTSTART;TZID=America/New_York:20240402T173000
DTEND;TZID=America/New_York:20240402T200000
DTSTAMP:20260423T094715
CREATED:20230905T175255Z
LAST-MODIFIED:20230905T175407Z
UID:424262-1712079000-1712088000@amityclub.org
SUMMARY:Amity Meeting - Nomination of New Directors
DESCRIPTION: 
URL:https://amityclub.org/event/amity-meeting-nomination-of-new-directors-4-2-2024/
LOCATION:Anthony’s Ocean View\, 450 Lighthouse Road\, New Haven\, CT\, 06512
CATEGORIES:Regular Meeting (Closed)
END:VEVENT
BEGIN:VEVENT
DTSTART;TZID=America/New_York:20240319T173000
DTEND;TZID=America/New_York:20240319T200000
DTSTAMP:20260423T094715
CREATED:20230905T175204Z
LAST-MODIFIED:20230905T175239Z
UID:424260-1710869400-1710878400@amityclub.org
SUMMARY:Amity Meeting
DESCRIPTION: 
URL:https://amityclub.org/event/amity-meeting-3-19-2024/
LOCATION:Anthony’s Ocean View\, 450 Lighthouse Road\, New Haven\, CT\, 06512
CATEGORIES:Regular Meeting (Open)
END:VEVENT
BEGIN:VEVENT
DTSTART;TZID=America/New_York:20240305T173000
DTEND;TZID=America/New_York:20240305T200000
DTSTAMP:20260423T094715
CREATED:20230905T175051Z
LAST-MODIFIED:20230905T175141Z
UID:424258-1709659800-1709668800@amityclub.org
SUMMARY:Amity Meeting
DESCRIPTION: 
URL:https://amityclub.org/event/amity-meeting-3-5-2024/
LOCATION:Anthony’s Ocean View\, 450 Lighthouse Road\, New Haven\, CT\, 06512
CATEGORIES:Regular Meeting (Open)
END:VEVENT
BEGIN:VEVENT
DTSTART;VALUE=DATE:20240301
DTEND;VALUE=DATE:20240302
DTSTAMP:20260423T094715
CREATED:20230905T174909Z
LAST-MODIFIED:20230905T175007Z
UID:424256-1709251200-1709337599@amityclub.org
SUMMARY:New Member Applications Due For May Induction
DESCRIPTION: 
URL:https://amityclub.org/event/new-member-applications-due-for-january-induction-3-1-2024/
LOCATION:CT
CATEGORIES:Special Event
END:VEVENT
BEGIN:VEVENT
DTSTART;TZID=America/New_York:20240213T173000
DTEND;TZID=America/New_York:20240213T200000
DTSTAMP:20260423T094715
CREATED:20230905T174617Z
LAST-MODIFIED:20230905T174856Z
UID:424254-1707845400-1707854400@amityclub.org
SUMMARY:Amity Meeting - Valentine's Day Dinner
DESCRIPTION: 
URL:https://amityclub.org/event/amity-meeting-valentines-day-dinner-2-13-2024/
LOCATION:Anthony’s Ocean View\, 450 Lighthouse Road\, New Haven\, CT\, 06512
CATEGORIES:Regular Meeting (Open)
END:VEVENT
BEGIN:VEVENT
DTSTART;TZID=America/New_York:20240206T173000
DTEND;TZID=America/New_York:20240206T200000
DTSTAMP:20260423T094715
CREATED:20230905T174440Z
LAST-MODIFIED:20230905T174544Z
UID:424252-1707240600-1707249600@amityclub.org
SUMMARY:Amity Meeting
DESCRIPTION: 
URL:https://amityclub.org/event/amity-meeting-2-6-2024/
LOCATION:Anthony’s Ocean View\, 450 Lighthouse Road\, New Haven\, CT\, 06512
CATEGORIES:Regular Meeting (Open)
END:VEVENT
BEGIN:VEVENT
DTSTART;TZID=America/New_York:20240116T173000
DTEND;TZID=America/New_York:20240116T200000
DTSTAMP:20260423T094715
CREATED:20230905T174246Z
LAST-MODIFIED:20230905T174412Z
UID:424250-1705426200-1705435200@amityclub.org
SUMMARY:Amity Meeting - New Member Induction
DESCRIPTION: 
URL:https://amityclub.org/event/amity-meeting-new-member-induction-1-16-2024/
LOCATION:Anthony’s Ocean View\, 450 Lighthouse Road\, New Haven\, CT\, 06512
CATEGORIES:Regular Meeting (Closed)
END:VEVENT
BEGIN:VEVENT
DTSTART;TZID=America/New_York:20240102T173000
DTEND;TZID=America/New_York:20240102T200000
DTSTAMP:20260423T094715
CREATED:20230905T174021Z
LAST-MODIFIED:20230905T174146Z
UID:424248-1704216600-1704225600@amityclub.org
SUMMARY:Amity Meeting - Sons & Daughters Night
DESCRIPTION: 
URL:https://amityclub.org/event/amity-meeting-sons-daughters-night-1-2-2024/
LOCATION:Anthony’s Ocean View\, 450 Lighthouse Road\, New Haven\, CT\, 06512
CATEGORIES:Regular Meeting (Open)
END:VEVENT
BEGIN:VEVENT
DTSTART;TZID=America/New_York:20231212T180000
DTEND;TZID=America/New_York:20231212T220000
DTSTAMP:20260423T094715
CREATED:20230905T173627Z
LAST-MODIFIED:20231117T191428Z
UID:424246-1702404000-1702418400@amityclub.org
SUMMARY:Amity Meeting - Christmas Party
DESCRIPTION:
URL:https://amityclub.org/event/amity-meeting-christmas-party-12-12-2023/
LOCATION:Anthony’s Ocean View\, 450 Lighthouse Road\, New Haven\, CT\, 06512
CATEGORIES:Regular Meeting (Closed),Special Event
END:VEVENT
BEGIN:VEVENT
DTSTART;TZID=America/New_York:20231121T173000
DTEND;TZID=America/New_York:20231121T200000
DTSTAMP:20260423T094715
CREATED:20230905T173010Z
LAST-MODIFIED:20230905T173212Z
UID:424244-1700587800-1700596800@amityclub.org
SUMMARY:Amity Meeting - Frank Rubino Night
DESCRIPTION: 
URL:https://amityclub.org/event/amity-meeting-frank-rubino-night-11-21-2023/
LOCATION:Anthony’s Ocean View\, 450 Lighthouse Road\, New Haven\, CT\, 06512
CATEGORIES:Regular Meeting (Open)
END:VEVENT
BEGIN:VEVENT
DTSTART;TZID=America/New_York:20231118T090000
DTEND;TZID=America/New_York:20231118T120000
DTSTAMP:20260423T094715
CREATED:20230925T210506Z
LAST-MODIFIED:20230925T212408Z
UID:424309-1700298000-1700308800@amityclub.org
SUMMARY:Yale vs Harvard Tailgate at Yale Bowl
DESCRIPTION:  \nPlease plan to attend this year’s Yale/Harvard Tailgate at Yale Bowl\nParking Lot D Central Ave New Haven – Directions\nParking lot opens 9 AM\nCost for Parking is $20 per car. Purchase Here\nGeneral Admission tickets $35. Purchase Here\nGame tickets are not mandatory\nCost for breakfast/ lunch is $40 per person which covers all catering and supplies. \nSend make check payable to :\nNick D’Ambrosia\n46 Lancelot Dr\nNorth Haven\, CT 06473\nc 203 668-7811\nPlease send payment by 10/31 \nParking begins at 9 AM\nI encourage carpooling\nBreakfast begins 10 AM \nMenu Breakfast\nBreakfast Sandwiches Bacon\, Sausage\, ham & Egg; Hardroll\nCoffee\, hot chocolate\, bottled water\nFollowed by Lunch\nSlow Roasted Italian Style Porketta\, Fresh Portuguese Rolls\nPenne ala Vodka\nDeluxe Garden Salad\nChef Lou Fusco’s own homemade Bratwurst\, beer braised with sauerkraut\nHummel Hot Dogs & Georgia Hots \nAll guests are asked to bring their choice of beverage\, beer\, wine\, liquor\nDesserts are kindly requested\nBring your folding chairs\nGame time is 12:00 pm\nAll are welcome
URL:https://amityclub.org/event/yale-vs-harvard-tailgate-at-yale-bowl/
LOCATION:Yale Bowl\, 81 Central Ave\, New Haven\, CT\, 06515\, United States
CATEGORIES:Special Event
END:VEVENT
BEGIN:VEVENT
DTSTART;TZID=America/New_York:20231117T180000
DTEND;TZID=America/New_York:20231117T203000
DTSTAMP:20260423T094715
CREATED:20230905T172501Z
LAST-MODIFIED:20230913T192430Z
UID:424240-1700244000-1700253000@amityclub.org
SUMMARY:ACT Wine Tasting Event
DESCRIPTION:
URL:https://amityclub.org/event/act-wine-tasting-event-11-17-2023/
LOCATION:The Woodwinds\, 29 School Ground Rd\, Branford\, CT\, 06405\, United States
CATEGORIES:Special Event
END:VEVENT
BEGIN:VEVENT
DTSTART;TZID=America/New_York:20231107T173000
DTEND;TZID=America/New_York:20231107T200000
DTSTAMP:20260423T094715
CREATED:20230905T172309Z
LAST-MODIFIED:20230905T172418Z
UID:424238-1699378200-1699387200@amityclub.org
SUMMARY:Amity Meeting - ACT Financial Report
DESCRIPTION: 
URL:https://amityclub.org/event/amity-meeting-act-financial-report-11-7-2023/
LOCATION:Anthony’s Ocean View\, 450 Lighthouse Road\, New Haven\, CT\, 06512
CATEGORIES:Regular Meeting (Closed)
END:VEVENT
BEGIN:VEVENT
DTSTART;VALUE=DATE:20231031
DTEND;VALUE=DATE:20231101
DTSTAMP:20260423T094715
CREATED:20230905T172002Z
LAST-MODIFIED:20230905T172227Z
UID:424235-1698710400-1698796799@amityclub.org
SUMMARY:New Member Applications Due For January Induction
DESCRIPTION: 
URL:https://amityclub.org/event/new-member-applications-due-for-january-induction-10-21-2023/
LOCATION:CT
CATEGORIES:Special Event
END:VEVENT
END:VCALENDAR