BEGIN:VCALENDAR
VERSION:2.0
PRODID:-//Amity Club of New Haven - ECPv6.15.20//NONSGML v1.0//EN
CALSCALE:GREGORIAN
METHOD:PUBLISH
X-ORIGINAL-URL:https://amityclub.org
X-WR-CALDESC:Events for Amity Club of New Haven
REFRESH-INTERVAL;VALUE=DURATION:PT1H
X-Robots-Tag:noindex
X-PUBLISHED-TTL:PT1H
BEGIN:VTIMEZONE
TZID:America/New_York
BEGIN:DAYLIGHT
TZOFFSETFROM:-0500
TZOFFSETTO:-0400
TZNAME:EDT
DTSTART:20140309T070000
END:DAYLIGHT
BEGIN:STANDARD
TZOFFSETFROM:-0400
TZOFFSETTO:-0500
TZNAME:EST
DTSTART:20141102T060000
END:STANDARD
BEGIN:DAYLIGHT
TZOFFSETFROM:-0500
TZOFFSETTO:-0400
TZNAME:EDT
DTSTART:20150308T070000
END:DAYLIGHT
BEGIN:STANDARD
TZOFFSETFROM:-0400
TZOFFSETTO:-0500
TZNAME:EST
DTSTART:20151101T060000
END:STANDARD
BEGIN:DAYLIGHT
TZOFFSETFROM:-0500
TZOFFSETTO:-0400
TZNAME:EDT
DTSTART:20160313T070000
END:DAYLIGHT
BEGIN:STANDARD
TZOFFSETFROM:-0400
TZOFFSETTO:-0500
TZNAME:EST
DTSTART:20161106T060000
END:STANDARD
BEGIN:DAYLIGHT
TZOFFSETFROM:-0500
TZOFFSETTO:-0400
TZNAME:EDT
DTSTART:20170312T070000
END:DAYLIGHT
BEGIN:STANDARD
TZOFFSETFROM:-0400
TZOFFSETTO:-0500
TZNAME:EST
DTSTART:20171105T060000
END:STANDARD
END:VTIMEZONE
BEGIN:VEVENT
DTSTART;TZID=America/New_York:20160614T180000
DTEND;TZID=America/New_York:20160614T200000
DTSTAMP:20260423T135444
CREATED:20150813T224050Z
LAST-MODIFIED:20150813T224050Z
UID:1752-1465927200-1465934400@amityclub.org
SUMMARY:Board of Directors Meeting
DESCRIPTION:Board of Directors Meeting
URL:https://amityclub.org/event/board-of-directors-meeting-21/
LOCATION:Brazi’s Italian Restaurant and Via ZOOM\, 201 Food Terminal Plaza\, New Haven\, CT\, 06511
CATEGORIES:Board of Directors Meetings
END:VEVENT
BEGIN:VEVENT
DTSTART;TZID=America/New_York:20160610T180000
DTEND;TZID=America/New_York:20160610T220000
DTSTAMP:20260423T135444
CREATED:20160218T192237Z
LAST-MODIFIED:20160218T193118Z
UID:1838-1465581600-1465596000@amityclub.org
SUMMARY:2016 Inaugural Ball
DESCRIPTION:Inaugural Ball
URL:https://amityclub.org/event/inaugural-ball-2-2/
LOCATION:Anthony’s Ocean View\, 450 Lighthouse Road\, New Haven\, CT\, 06512
CATEGORIES:Special Event
END:VEVENT
BEGIN:VEVENT
DTSTART;TZID=America/New_York:20160607T171500
DTEND;TZID=America/New_York:20160607T201500
DTSTAMP:20260423T135444
CREATED:20150813T223248Z
LAST-MODIFIED:20150813T224649Z
UID:1743-1465319700-1465330500@amityclub.org
SUMMARY:Regular Meeting (Open) - Scholarship Awards Night
DESCRIPTION:Regular Meeting (Open To Guests) Guest Speaker (TBA)
URL:https://amityclub.org/event/regular-meeting-open-scholarship-awards-night/
LOCATION:Anthony’s Ocean View\, 450 Lighthouse Road\, New Haven\, CT\, 06512
CATEGORIES:Regular Meeting (Open),Special Event
END:VEVENT
BEGIN:VEVENT
DTSTART;TZID=America/New_York:20160517T171500
DTEND;TZID=America/New_York:20160517T201500
DTSTAMP:20260423T135444
CREATED:20150813T223247Z
LAST-MODIFIED:20150813T224748Z
UID:1742-1463505300-1463516100@amityclub.org
SUMMARY:Regular Meeting (Open) - Worthy Projects
DESCRIPTION:Regular Meeting (Open To Guests) – Worthy Projects
URL:https://amityclub.org/event/regular-meeting-open-worthy-projects-3/
LOCATION:Anthony’s Ocean View\, 450 Lighthouse Road\, New Haven\, CT\, 06512
CATEGORIES:Regular Meeting (Open),Special Event
END:VEVENT
BEGIN:VEVENT
DTSTART;TZID=America/New_York:20160510T180000
DTEND;TZID=America/New_York:20160510T200000
DTSTAMP:20260423T135444
CREATED:20150813T224050Z
LAST-MODIFIED:20150813T224050Z
UID:1751-1462903200-1462910400@amityclub.org
SUMMARY:Board of Directors Meeting
DESCRIPTION:Board of Directors Meeting
URL:https://amityclub.org/event/board-of-directors-meeting-20/
LOCATION:Brazi’s Italian Restaurant and Via ZOOM\, 201 Food Terminal Plaza\, New Haven\, CT\, 06511
CATEGORIES:Board of Directors Meetings
END:VEVENT
BEGIN:VEVENT
DTSTART;TZID=America/New_York:20160503T171500
DTEND;TZID=America/New_York:20160503T201500
DTSTAMP:20260423T135444
CREATED:20150813T223247Z
LAST-MODIFIED:20150813T224819Z
UID:1741-1462295700-1462306500@amityclub.org
SUMMARY:Regular Meeting (Closed) - Induction of New Members & Election of New Board Members
DESCRIPTION:Regular Meeting (Closed) – Induction of New Members & Election of New Board Members
URL:https://amityclub.org/event/regular-meeting-closed-induction-of-new-members-election-of-new-board-members-3/
LOCATION:Anthony’s Ocean View\, 450 Lighthouse Road\, New Haven\, CT\, 06512
CATEGORIES:Regular Meeting (Closed)
END:VEVENT
BEGIN:VEVENT
DTSTART;TZID=America/New_York:20160420T180000
DTEND;TZID=America/New_York:20160420T220000
DTSTAMP:20260423T135444
CREATED:20160218T200951Z
LAST-MODIFIED:20160218T200951Z
UID:1840-1461175200-1461189600@amityclub.org
SUMMARY:2016 President's Project
DESCRIPTION:Testimonial Dinner Honoring Capt. Anthony J. DeBiase\nTo benefit the Marine Cadets of America through the establishment of the “Capt. Anthony J. DeBiase Fund” in the Amity Charitable Trust.
URL:https://amityclub.org/event/2016-presidents-project/
LOCATION:Anthony’s Ocean View\, 450 Lighthouse Road\, New Haven\, CT\, 06512
CATEGORIES:Special Event
END:VEVENT
BEGIN:VEVENT
DTSTART;TZID=America/New_York:20160419T171500
DTEND;TZID=America/New_York:20160419T201500
DTSTAMP:20260423T135444
CREATED:20150813T223247Z
LAST-MODIFIED:20150813T224851Z
UID:1740-1461086100-1461096900@amityclub.org
SUMMARY:Regular Meeting (Open) - Speaker
DESCRIPTION:Regular Meeting (Open To Guests) Guest Speaker (TBA)
URL:https://amityclub.org/event/regular-meeting-open-speaker-7/
LOCATION:Anthony’s Ocean View\, 450 Lighthouse Road\, New Haven\, CT\, 06512
CATEGORIES:Regular Meeting (Open)
END:VEVENT
BEGIN:VEVENT
DTSTART;TZID=America/New_York:20160412T180000
DTEND;TZID=America/New_York:20160412T200000
DTSTAMP:20260423T135444
CREATED:20150813T224049Z
LAST-MODIFIED:20150813T224049Z
UID:1750-1460484000-1460491200@amityclub.org
SUMMARY:Board of Directors Meeting
DESCRIPTION:Board of Directors Meeting
URL:https://amityclub.org/event/board-of-directors-meeting-19/
LOCATION:Brazi’s Italian Restaurant and Via ZOOM\, 201 Food Terminal Plaza\, New Haven\, CT\, 06511
CATEGORIES:Board of Directors Meetings
END:VEVENT
BEGIN:VEVENT
DTSTART;TZID=America/New_York:20160405T171500
DTEND;TZID=America/New_York:20160405T201500
DTSTAMP:20260423T135444
CREATED:20150813T223247Z
LAST-MODIFIED:20150813T224934Z
UID:1739-1459876500-1459887300@amityclub.org
SUMMARY:Regular Meeting (Closed) - Nomination of New Board Members
DESCRIPTION:Regular Meeting (Closed) – Nomination of New Board Members
URL:https://amityclub.org/event/regular-meeting-closed-nomination-of-new-board-members-3/
LOCATION:Anthony’s Ocean View\, 450 Lighthouse Road\, New Haven\, CT\, 06512
CATEGORIES:Regular Meeting (Closed)
END:VEVENT
BEGIN:VEVENT
DTSTART;TZID=America/New_York:20160315T171500
DTEND;TZID=America/New_York:20160315T201500
DTSTAMP:20260423T135444
CREATED:20150813T223247Z
LAST-MODIFIED:20150813T224956Z
UID:1738-1458062100-1458072900@amityclub.org
SUMMARY:Regular Meeting (Open) - Speaker
DESCRIPTION:Regular Meeting (Open To Guests) Guest Speaker (TBA)
URL:https://amityclub.org/event/regular-meeting-open-speaker-6/
LOCATION:Anthony’s Ocean View\, 450 Lighthouse Road\, New Haven\, CT\, 06512
CATEGORIES:Regular Meeting (Open)
END:VEVENT
BEGIN:VEVENT
DTSTART;TZID=America/New_York:20160308T180000
DTEND;TZID=America/New_York:20160308T200000
DTSTAMP:20260423T135444
CREATED:20150813T224049Z
LAST-MODIFIED:20150813T224049Z
UID:1749-1457460000-1457467200@amityclub.org
SUMMARY:Board of Directors Meeting
DESCRIPTION:Board of Directors Meeting
URL:https://amityclub.org/event/board-of-directors-meeting-18/
LOCATION:Brazi’s Italian Restaurant and Via ZOOM\, 201 Food Terminal Plaza\, New Haven\, CT\, 06511
CATEGORIES:Board of Directors Meetings
END:VEVENT
BEGIN:VEVENT
DTSTART;TZID=America/New_York:20160301T171500
DTEND;TZID=America/New_York:20160301T201500
DTSTAMP:20260423T135444
CREATED:20150813T223247Z
LAST-MODIFIED:20150813T225019Z
UID:1737-1456852500-1456863300@amityclub.org
SUMMARY:Regular Meeting (Open) - Speaker
DESCRIPTION:Regular Meeting (Open To Guests) Guest Speaker (TBA)
URL:https://amityclub.org/event/regular-meeting-open-speaker/
LOCATION:Anthony’s Ocean View\, 450 Lighthouse Road\, New Haven\, CT\, 06512
CATEGORIES:Regular Meeting (Open)
END:VEVENT
BEGIN:VEVENT
DTSTART;TZID=America/New_York:20160216T171500
DTEND;TZID=America/New_York:20160216T201500
DTSTAMP:20260423T135444
CREATED:20150813T223247Z
LAST-MODIFIED:20150813T225220Z
UID:1736-1455642900-1455653700@amityclub.org
SUMMARY:Regular Meeting (Open) - Prospective Members' Night - Speaker
DESCRIPTION:Regular Meeting (Open To Guests) – Prospective Members’ Night – Guest Speaker (TBA)
URL:https://amityclub.org/event/regular-meeting-open-prospective-members-night-speaker-7/
LOCATION:Anthony’s Ocean View\, 450 Lighthouse Road\, New Haven\, CT\, 06512
CATEGORIES:Regular Meeting (Open)
END:VEVENT
BEGIN:VEVENT
DTSTART;TZID=America/New_York:20160209T180000
DTEND;TZID=America/New_York:20160209T200000
DTSTAMP:20260423T135444
CREATED:20150813T224049Z
LAST-MODIFIED:20150813T224049Z
UID:1748-1455040800-1455048000@amityclub.org
SUMMARY:Board of Directors Meeting
DESCRIPTION:Board of Directors Meeting
URL:https://amityclub.org/event/board-of-directors-meeting-17/
LOCATION:Brazi’s Italian Restaurant and Via ZOOM\, 201 Food Terminal Plaza\, New Haven\, CT\, 06511
CATEGORIES:Board of Directors Meetings
END:VEVENT
BEGIN:VEVENT
DTSTART;TZID=America/New_York:20160202T171500
DTEND;TZID=America/New_York:20160202T201500
DTSTAMP:20260423T135444
CREATED:20150813T223247Z
LAST-MODIFIED:20150813T225227Z
UID:1735-1454433300-1454444100@amityclub.org
SUMMARY:Regular Meeting (Open) - Prospective Members' Night - Speaker
DESCRIPTION:Regular Meeting (Open To Guests) – Prospective Members’ Night – Guest Speaker (TBA)
URL:https://amityclub.org/event/regular-meeting-open-prospective-members-night-speaker-6/
LOCATION:Anthony’s Ocean View\, 450 Lighthouse Road\, New Haven\, CT\, 06512
CATEGORIES:Regular Meeting (Open)
END:VEVENT
BEGIN:VEVENT
DTSTART;TZID=America/New_York:20160119T171500
DTEND;TZID=America/New_York:20160119T201500
DTSTAMP:20260423T135444
CREATED:20150813T223247Z
LAST-MODIFIED:20150813T225232Z
UID:1734-1453223700-1453234500@amityclub.org
SUMMARY:Regular Meeting (Open) - Induction of New Members
DESCRIPTION:Regular Meeting (Open To Guests) Induction of New Members
URL:https://amityclub.org/event/regular-meeting-open-induction-of-new-members-2/
LOCATION:Anthony’s Ocean View\, 450 Lighthouse Road\, New Haven\, CT\, 06512
CATEGORIES:Regular Meeting (Open)
END:VEVENT
BEGIN:VEVENT
DTSTART;TZID=America/New_York:20160112T180000
DTEND;TZID=America/New_York:20160112T200000
DTSTAMP:20260423T135444
CREATED:20150813T224049Z
LAST-MODIFIED:20150813T224049Z
UID:1747-1452621600-1452628800@amityclub.org
SUMMARY:Board of Directors Meeting
DESCRIPTION:Board of Directors Meeting
URL:https://amityclub.org/event/board-of-directors-meeting-16/
LOCATION:Brazi’s Italian Restaurant and Via ZOOM\, 201 Food Terminal Plaza\, New Haven\, CT\, 06511
CATEGORIES:Board of Directors Meetings
END:VEVENT
BEGIN:VEVENT
DTSTART;TZID=America/New_York:20160105T171500
DTEND;TZID=America/New_York:20160105T201500
DTSTAMP:20260423T135444
CREATED:20150813T223247Z
LAST-MODIFIED:20150813T225238Z
UID:1733-1452014100-1452024900@amityclub.org
SUMMARY:Regular Meeting (Open) - Sons' & Daughters' Night - Speaker
DESCRIPTION:Regular Meeting (Open To Guests) – Sons’ & Daughters’ Night – Guest Speaker (TBA)
URL:https://amityclub.org/event/regular-meeting-open-sons-daughters-night-speaker-2/
LOCATION:Anthony’s Ocean View\, 450 Lighthouse Road\, New Haven\, CT\, 06512
CATEGORIES:Regular Meeting (Open)
END:VEVENT
BEGIN:VEVENT
DTSTART;TZID=America/New_York:20151220T110000
DTEND;TZID=America/New_York:20151220T140000
DTSTAMP:20260423T135444
CREATED:20151028T165926Z
LAST-MODIFIED:20151028T170501Z
UID:1766-1450609200-1450620000@amityclub.org
SUMMARY:Christmas Party for Children - (Open)
DESCRIPTION:Christmas Party for Children – (Open)
URL:https://amityclub.org/event/childrens-christmas-party-2/
LOCATION:Mancheski Hall\, Quinnipiac University\, 275 Mount Carmel Avenue\, Hamden\, 06518
CATEGORIES:Special Event
END:VEVENT
BEGIN:VEVENT
DTSTART;TZID=America/New_York:20151215T180000
DTEND;TZID=America/New_York:20151215T200000
DTSTAMP:20260423T135444
CREATED:20150813T224049Z
LAST-MODIFIED:20150813T224049Z
UID:1746-1450202400-1450209600@amityclub.org
SUMMARY:Board of Directors Meeting
DESCRIPTION:Board of Directors Meeting
URL:https://amityclub.org/event/board-of-directors-meeting-15/
LOCATION:Brazi’s Italian Restaurant and Via ZOOM\, 201 Food Terminal Plaza\, New Haven\, CT\, 06511
CATEGORIES:Board of Directors Meetings
END:VEVENT
BEGIN:VEVENT
DTSTART;TZID=America/New_York:20151208T180000
DTEND;TZID=America/New_York:20151208T220000
DTSTAMP:20260423T135444
CREATED:20150813T225804Z
LAST-MODIFIED:20150813T225951Z
UID:1753-1449597600-1449612000@amityclub.org
SUMMARY:Christmas Party For Adults - (Open)
DESCRIPTION:Christmas Party For Adults – (Open)
URL:https://amityclub.org/event/regular-meeting-open-christmas-party-for-adults-2/
LOCATION:Anthony’s Ocean View\, 450 Lighthouse Road\, New Haven\, CT\, 06512
CATEGORIES:Special Event
END:VEVENT
BEGIN:VEVENT
DTSTART;TZID=America/New_York:20151117T171500
DTEND;TZID=America/New_York:20151117T201500
DTSTAMP:20260423T135444
CREATED:20150813T223247Z
LAST-MODIFIED:20150813T225244Z
UID:1732-1447780500-1447791300@amityclub.org
SUMMARY:Regular Meeting (Open) - Frank Rubino Night
DESCRIPTION:Regular Meeting (Open To Guests) – Frank Rubino Night
URL:https://amityclub.org/event/regular-meeting-open-frank-rubino-night-2/
LOCATION:Anthony’s Ocean View\, 450 Lighthouse Road\, New Haven\, CT\, 06512
CATEGORIES:Regular Meeting (Open)
END:VEVENT
BEGIN:VEVENT
DTSTART;TZID=America/New_York:20151110T180000
DTEND;TZID=America/New_York:20151110T200000
DTSTAMP:20260423T135444
CREATED:20150813T224049Z
LAST-MODIFIED:20150813T224049Z
UID:1745-1447178400-1447185600@amityclub.org
SUMMARY:Board of Directors Meeting
DESCRIPTION:Board of Directors Meeting
URL:https://amityclub.org/event/board-of-directors-meeting-14/
LOCATION:Brazi’s Italian Restaurant and Via ZOOM\, 201 Food Terminal Plaza\, New Haven\, CT\, 06511
CATEGORIES:Board of Directors Meetings
END:VEVENT
BEGIN:VEVENT
DTSTART;TZID=America/New_York:20151103T171500
DTEND;TZID=America/New_York:20151103T201500
DTSTAMP:20260423T135444
CREATED:20150813T223247Z
LAST-MODIFIED:20150813T225253Z
UID:1731-1446570900-1446581700@amityclub.org
SUMMARY:Regular Meeting (Closed) - Amity Charitable Trust & Financial Reporting
DESCRIPTION:Regular Meeting (Closed) – Amity Charitable Trust & Financial Reporting
URL:https://amityclub.org/event/regular-meeting-closed-amity-charitable-trust-financial-reporting-2/
LOCATION:Anthony’s Ocean View\, 450 Lighthouse Road\, New Haven\, CT\, 06512
CATEGORIES:Regular Meeting (Closed)
END:VEVENT
BEGIN:VEVENT
DTSTART;TZID=America/New_York:20151022T180000
DTEND;TZID=America/New_York:20151022T203000
DTSTAMP:20260423T135444
CREATED:20150804T180757Z
LAST-MODIFIED:20160218T182530Z
UID:1664-1445536800-1445545800@amityclub.org
SUMMARY:17th Annual Amity Charitable Trust Wine Tasting
DESCRIPTION:17th Annual Wine Tasting Flyer\nPRICING \n$55 | Wine & Italian Cuisine Tasting \n$80 | Premium Wine Seminar & Tasting \n$100 Patron Level | Wine & Italian Cuisine Tasting\, Contribution & Recognition \n*Sponsorships Are Available* \nT I C K E T S \nNICOLE GLORIOSO  |  203-777-8648 X2243  |  NGLORIOSO@CLIFFORDBEERS.ORG \nJOE ADINOLFI  |  203-915-2249  | JMADINOLFI79@GMAIL.COM \nProceeds Will Benefit The Amity Charitable Trust & Clifford Beers Clinic
URL:https://amityclub.org/event/international-wine-tasting-italian-cuisine-tasting-2/
LOCATION:Anthony’s Ocean View\, 450 Lighthouse Road\, New Haven\, CT\, 06512
CATEGORIES:Special Event
ORGANIZER;CN="Joe Adinolfi":MAILTO:jmadinolfi79@gmail.com
END:VEVENT
BEGIN:VEVENT
DTSTART;TZID=America/New_York:20151020T171500
DTEND;TZID=America/New_York:20151020T201500
DTSTAMP:20260423T135444
CREATED:20150804T180802Z
LAST-MODIFIED:20150804T180923Z
UID:1665-1445361300-1445372100@amityclub.org
SUMMARY:Regular Meeting (Open) – Speaker
DESCRIPTION:Regular Meeting (Open To Guests) Guest Speaker (TBA)
URL:https://amityclub.org/event/regular-meeting-open-speaker-2-2/
LOCATION:Anthony’s Ocean View\, 450 Lighthouse Road\, New Haven\, CT\, 06512
CATEGORIES:Regular Meeting (Open)
END:VEVENT
BEGIN:VEVENT
DTSTART;TZID=America/New_York:20151013T180000
DTEND;TZID=America/New_York:20151013T200000
DTSTAMP:20260423T135444
CREATED:20150804T180643Z
LAST-MODIFIED:20150804T181119Z
UID:1663-1444759200-1444766400@amityclub.org
SUMMARY:Board of Directors Meeting
DESCRIPTION:Board of Directors Meeting
URL:https://amityclub.org/event/board-of-directors-meeting-5-2/
LOCATION:Brazi’s Italian Restaurant and Via ZOOM\, 201 Food Terminal Plaza\, New Haven\, CT\, 06511
CATEGORIES:Board of Directors Meetings
END:VEVENT
BEGIN:VEVENT
DTSTART;TZID=America/New_York:20151011T130000
DTEND;TZID=America/New_York:20151011T170000
DTSTAMP:20260423T135444
CREATED:20150804T175735Z
LAST-MODIFIED:20150804T180355Z
UID:1660-1444568400-1444582800@amityclub.org
SUMMARY:Columbus Day Parade – East Haven
DESCRIPTION:Columbus Day Parade – East Haven
URL:https://amityclub.org/event/columbus-day-parade-north-haven-2/
LOCATION:East Haven Parade Route\, 250 Main Street\, East Haven\, CT\, 06512\, United States
CATEGORIES:Special Event
END:VEVENT
BEGIN:VEVENT
DTSTART;TZID=America/New_York:20151010T110000
DTEND;TZID=America/New_York:20151010T140000
DTSTAMP:20260423T135444
CREATED:20150804T175633Z
LAST-MODIFIED:20150804T180327Z
UID:1659-1444474800-1444485600@amityclub.org
SUMMARY:Columbus Day Wreath Ceremony
DESCRIPTION:Columbus Day Wreath Ceremony \nBlessing of the Wreaths takes place at Saint Michael’s Church on Columbus Square at 11:00 A.M. \nProcession to statue and laying of the wreaths takes place immediately following the blessing. \nFor Complete Information see the New Haven Columbus Day Committee website.
URL:https://amityclub.org/event/columbus-day-wreath-ceremony-2/
LOCATION:Wooster Square\, Chapel Street & Wooster Place\, New Haven\, CT
CATEGORIES:Special Event
END:VEVENT
END:VCALENDAR