BEGIN:VCALENDAR
VERSION:2.0
PRODID:-//Amity Club of New Haven - ECPv6.15.20//NONSGML v1.0//EN
CALSCALE:GREGORIAN
METHOD:PUBLISH
X-WR-CALNAME:Amity Club of New Haven
X-ORIGINAL-URL:https://amityclub.org
X-WR-CALDESC:Events for Amity Club of New Haven
REFRESH-INTERVAL;VALUE=DURATION:PT1H
X-Robots-Tag:noindex
X-PUBLISHED-TTL:PT1H
BEGIN:VTIMEZONE
TZID:America/New_York
BEGIN:DAYLIGHT
TZOFFSETFROM:-0500
TZOFFSETTO:-0400
TZNAME:EDT
DTSTART:20210314T070000
END:DAYLIGHT
BEGIN:STANDARD
TZOFFSETFROM:-0400
TZOFFSETTO:-0500
TZNAME:EST
DTSTART:20211107T060000
END:STANDARD
BEGIN:DAYLIGHT
TZOFFSETFROM:-0500
TZOFFSETTO:-0400
TZNAME:EDT
DTSTART:20220313T070000
END:DAYLIGHT
BEGIN:STANDARD
TZOFFSETFROM:-0400
TZOFFSETTO:-0500
TZNAME:EST
DTSTART:20221106T060000
END:STANDARD
BEGIN:DAYLIGHT
TZOFFSETFROM:-0500
TZOFFSETTO:-0400
TZNAME:EDT
DTSTART:20230312T070000
END:DAYLIGHT
BEGIN:STANDARD
TZOFFSETFROM:-0400
TZOFFSETTO:-0500
TZNAME:EST
DTSTART:20231105T060000
END:STANDARD
BEGIN:DAYLIGHT
TZOFFSETFROM:-0500
TZOFFSETTO:-0400
TZNAME:EDT
DTSTART:20240310T070000
END:DAYLIGHT
BEGIN:STANDARD
TZOFFSETFROM:-0400
TZOFFSETTO:-0500
TZNAME:EST
DTSTART:20241103T060000
END:STANDARD
END:VTIMEZONE
BEGIN:VEVENT
DTSTART;TZID=America/New_York:20231121T173000
DTEND;TZID=America/New_York:20231121T200000
DTSTAMP:20260423T112317
CREATED:20230905T173010Z
LAST-MODIFIED:20230905T173212Z
UID:424244-1700587800-1700596800@amityclub.org
SUMMARY:Amity Meeting - Frank Rubino Night
DESCRIPTION: 
URL:https://amityclub.org/event/amity-meeting-frank-rubino-night-11-21-2023/
LOCATION:Anthony’s Ocean View\, 450 Lighthouse Road\, New Haven\, CT\, 06512
CATEGORIES:Regular Meeting (Open)
END:VEVENT
BEGIN:VEVENT
DTSTART;TZID=America/New_York:20231118T090000
DTEND;TZID=America/New_York:20231118T120000
DTSTAMP:20260423T112317
CREATED:20230925T210506Z
LAST-MODIFIED:20230925T212408Z
UID:424309-1700298000-1700308800@amityclub.org
SUMMARY:Yale vs Harvard Tailgate at Yale Bowl
DESCRIPTION:  \nPlease plan to attend this year’s Yale/Harvard Tailgate at Yale Bowl\nParking Lot D Central Ave New Haven – Directions\nParking lot opens 9 AM\nCost for Parking is $20 per car. Purchase Here\nGeneral Admission tickets $35. Purchase Here\nGame tickets are not mandatory\nCost for breakfast/ lunch is $40 per person which covers all catering and supplies. \nSend make check payable to :\nNick D’Ambrosia\n46 Lancelot Dr\nNorth Haven\, CT 06473\nc 203 668-7811\nPlease send payment by 10/31 \nParking begins at 9 AM\nI encourage carpooling\nBreakfast begins 10 AM \nMenu Breakfast\nBreakfast Sandwiches Bacon\, Sausage\, ham & Egg; Hardroll\nCoffee\, hot chocolate\, bottled water\nFollowed by Lunch\nSlow Roasted Italian Style Porketta\, Fresh Portuguese Rolls\nPenne ala Vodka\nDeluxe Garden Salad\nChef Lou Fusco’s own homemade Bratwurst\, beer braised with sauerkraut\nHummel Hot Dogs & Georgia Hots \nAll guests are asked to bring their choice of beverage\, beer\, wine\, liquor\nDesserts are kindly requested\nBring your folding chairs\nGame time is 12:00 pm\nAll are welcome
URL:https://amityclub.org/event/yale-vs-harvard-tailgate-at-yale-bowl/
LOCATION:Yale Bowl\, 81 Central Ave\, New Haven\, CT\, 06515\, United States
CATEGORIES:Special Event
END:VEVENT
BEGIN:VEVENT
DTSTART;TZID=America/New_York:20231117T180000
DTEND;TZID=America/New_York:20231117T203000
DTSTAMP:20260423T112317
CREATED:20230905T172501Z
LAST-MODIFIED:20230913T192430Z
UID:424240-1700244000-1700253000@amityclub.org
SUMMARY:ACT Wine Tasting Event
DESCRIPTION:
URL:https://amityclub.org/event/act-wine-tasting-event-11-17-2023/
LOCATION:The Woodwinds\, 29 School Ground Rd\, Branford\, CT\, 06405\, United States
CATEGORIES:Special Event
END:VEVENT
BEGIN:VEVENT
DTSTART;TZID=America/New_York:20231107T173000
DTEND;TZID=America/New_York:20231107T200000
DTSTAMP:20260423T112317
CREATED:20230905T172309Z
LAST-MODIFIED:20230905T172418Z
UID:424238-1699378200-1699387200@amityclub.org
SUMMARY:Amity Meeting - ACT Financial Report
DESCRIPTION: 
URL:https://amityclub.org/event/amity-meeting-act-financial-report-11-7-2023/
LOCATION:Anthony’s Ocean View\, 450 Lighthouse Road\, New Haven\, CT\, 06512
CATEGORIES:Regular Meeting (Closed)
END:VEVENT
BEGIN:VEVENT
DTSTART;VALUE=DATE:20231031
DTEND;VALUE=DATE:20231101
DTSTAMP:20260423T112317
CREATED:20230905T172002Z
LAST-MODIFIED:20230905T172227Z
UID:424235-1698710400-1698796799@amityclub.org
SUMMARY:New Member Applications Due For January Induction
DESCRIPTION: 
URL:https://amityclub.org/event/new-member-applications-due-for-january-induction-10-21-2023/
LOCATION:CT
CATEGORIES:Special Event
END:VEVENT
BEGIN:VEVENT
DTSTART;TZID=America/New_York:20231017T173000
DTEND;TZID=America/New_York:20231017T200000
DTSTAMP:20260423T112317
CREATED:20230905T171524Z
LAST-MODIFIED:20230905T171752Z
UID:424231-1697563800-1697572800@amityclub.org
SUMMARY:Amity Meeting
DESCRIPTION: 
URL:https://amityclub.org/event/amity-meeting-10-17-2023/
LOCATION:Anthony’s Ocean View\, 450 Lighthouse Road\, New Haven\, CT\, 06512
CATEGORIES:Regular Meeting (Open)
END:VEVENT
BEGIN:VEVENT
DTSTART;TZID=America/New_York:20231003T173000
DTEND;TZID=America/New_York:20231003T200000
DTSTAMP:20260423T112317
CREATED:20230905T171123Z
LAST-MODIFIED:20230905T171502Z
UID:424228-1696354200-1696363200@amityclub.org
SUMMARY:Amity Meeting
DESCRIPTION: 
URL:https://amityclub.org/event/amity-meeting-10-03-2023/
LOCATION:Anthony’s Ocean View\, 450 Lighthouse Road\, New Haven\, CT\, 06512
CATEGORIES:Regular Meeting (Open)
END:VEVENT
BEGIN:VEVENT
DTSTART;TZID=America/New_York:20230919T173000
DTEND;TZID=America/New_York:20230919T200000
DTSTAMP:20260423T112317
CREATED:20230905T171424Z
LAST-MODIFIED:20230905T171642Z
UID:424230-1695144600-1695153600@amityclub.org
SUMMARY:Amity Meeting
DESCRIPTION: 
URL:https://amityclub.org/event/amity-meeting-9-19-2023/
LOCATION:Anthony’s Ocean View\, 450 Lighthouse Road\, New Haven\, CT\, 06512
CATEGORIES:Regular Meeting (Open)
END:VEVENT
BEGIN:VEVENT
DTSTART;TZID=America/New_York:20230910T133000
DTEND;TZID=America/New_York:20230910T163000
DTSTAMP:20260423T112317
CREATED:20230905T181536Z
LAST-MODIFIED:20230906T151350Z
UID:424276-1694352600-1694363400@amityclub.org
SUMMARY:Amity on the Go - Yankee Stadium
DESCRIPTION: 
URL:https://amityclub.org/event/amity-on-the-go-yankees-stadium-9-10-2023/
LOCATION:CT
CATEGORIES:Special Event
END:VEVENT
BEGIN:VEVENT
DTSTART;TZID=America/New_York:20230905T173000
DTEND;TZID=America/New_York:20230905T200000
DTSTAMP:20260423T112317
CREATED:20230905T170930Z
LAST-MODIFIED:20230905T171111Z
UID:424224-1693935000-1693944000@amityclub.org
SUMMARY:Amity Meeting - President’s Project Announced
DESCRIPTION: 
URL:https://amityclub.org/event/amity-meeting-9-5-2023/
LOCATION:Anthony’s Ocean View\, 450 Lighthouse Road\, New Haven\, CT\, 06512
CATEGORIES:Regular Meeting (Closed)
END:VEVENT
BEGIN:VEVENT
DTSTART;TZID=America/New_York:20230813T120000
DTEND;TZID=America/New_York:20230813T170000
DTSTAMP:20260423T112317
CREATED:20230622T144722Z
LAST-MODIFIED:20230622T145203Z
UID:424151-1691928000-1691946000@amityclub.org
SUMMARY:The Amity Club Family Picnic
DESCRIPTION:
URL:https://amityclub.org/event/the-amity-club-family-picnic-2023/
LOCATION:Branford Yacht Club\, 39 Goodsell Point Rd\, Branford\, CT\, 06405\, United States
CATEGORIES:Special Event
END:VEVENT
BEGIN:VEVENT
DTSTART;TZID=America/New_York:20230620T173000
DTEND;TZID=America/New_York:20230620T200000
DTSTAMP:20260423T112317
CREATED:20220901T182314Z
LAST-MODIFIED:20230105T190402Z
UID:423730-1687282200-1687291200@amityclub.org
SUMMARY:Amity Meeting - President’s Farewell Meeting
DESCRIPTION: 
URL:https://amityclub.org/event/amity-meeting-presidents-farewell-meeting-6-20-2023/
LOCATION:Anthony’s Ocean View\, 450 Lighthouse Road\, New Haven\, CT\, 06512
CATEGORIES:Regular Meeting (Closed),Special Event
END:VEVENT
BEGIN:VEVENT
DTSTART;TZID=America/New_York:20230613T173000
DTEND;TZID=America/New_York:20230613T200000
DTSTAMP:20260423T112317
CREATED:20220901T182059Z
LAST-MODIFIED:20230209T183223Z
UID:423726-1686677400-1686686400@amityclub.org
SUMMARY:Amity Meeting - Scholarship Night
DESCRIPTION: 
URL:https://amityclub.org/event/amity-meeting-scholarship-night/
LOCATION:Anthony’s Ocean View\, 450 Lighthouse Road\, New Haven\, CT\, 06512
CATEGORIES:Regular Meeting (Open),Special Event
END:VEVENT
BEGIN:VEVENT
DTSTART;TZID=America/New_York:20230609T173000
DTEND;TZID=America/New_York:20230609T200000
DTSTAMP:20260423T112317
CREATED:20220901T182210Z
LAST-MODIFIED:20230105T190353Z
UID:423728-1686331800-1686340800@amityclub.org
SUMMARY:Inaugural Ball
DESCRIPTION: 
URL:https://amityclub.org/event/inaugural-ball-6-9-2023/
LOCATION:Anthony’s Ocean View\, 450 Lighthouse Road\, New Haven\, CT\, 06512
CATEGORIES:Regular Meeting (Open),Special Event
END:VEVENT
BEGIN:VEVENT
DTSTART;TZID=America/New_York:20230516T173000
DTEND;TZID=America/New_York:20230516T200000
DTSTAMP:20260423T112317
CREATED:20220901T182018Z
LAST-MODIFIED:20230105T190336Z
UID:423724-1684258200-1684267200@amityclub.org
SUMMARY:Amity Meeting - Worthy Projects Night
DESCRIPTION: 
URL:https://amityclub.org/event/amity-meeting-worthy-projects-night/
LOCATION:Anthony’s Ocean View\, 450 Lighthouse Road\, New Haven\, CT\, 06512
CATEGORIES:Regular Meeting (Open),Special Event
END:VEVENT
BEGIN:VEVENT
DTSTART;TZID=America/New_York:20230502T173000
DTEND;TZID=America/New_York:20230502T200000
DTSTAMP:20260423T112317
CREATED:20220901T181902Z
LAST-MODIFIED:20230105T190326Z
UID:423722-1683048600-1683057600@amityclub.org
SUMMARY:Amity Meeting - New Member Induction & Election of Directors
DESCRIPTION: 
URL:https://amityclub.org/event/amity-meeting-new-member-induction-election-of-directors/
LOCATION:Anthony’s Ocean View\, 450 Lighthouse Road\, New Haven\, CT\, 06512
CATEGORIES:Regular Meeting (Closed),Special Event
END:VEVENT
BEGIN:VEVENT
DTSTART;TZID=America/New_York:20230418T173000
DTEND;TZID=America/New_York:20230418T200000
DTSTAMP:20260423T112317
CREATED:20220901T181816Z
LAST-MODIFIED:20230105T190315Z
UID:423720-1681839000-1681848000@amityclub.org
SUMMARY:Amity Meeting
DESCRIPTION: 
URL:https://amityclub.org/event/amity-meeting-12/
LOCATION:Anthony’s Ocean View\, 450 Lighthouse Road\, New Haven\, CT\, 06512
CATEGORIES:Regular Meeting (Open)
END:VEVENT
BEGIN:VEVENT
DTSTART;TZID=America/New_York:20230404T173000
DTEND;TZID=America/New_York:20230404T200000
DTSTAMP:20260423T112317
CREATED:20220901T181740Z
LAST-MODIFIED:20230105T190305Z
UID:423718-1680629400-1680638400@amityclub.org
SUMMARY:Amity Meeting - Nomination of New Directors
DESCRIPTION: 
URL:https://amityclub.org/event/amity-meeting-nomination-of-new-directors/
LOCATION:Anthony’s Ocean View\, 450 Lighthouse Road\, New Haven\, CT\, 06512
CATEGORIES:Regular Meeting (Closed),Special Event
END:VEVENT
BEGIN:VEVENT
DTSTART;TZID=America/New_York:20230321T173000
DTEND;TZID=America/New_York:20230321T200000
DTSTAMP:20260423T112317
CREATED:20220901T181659Z
LAST-MODIFIED:20230105T190251Z
UID:423716-1679419800-1679428800@amityclub.org
SUMMARY:Amity Meeting
DESCRIPTION: 
URL:https://amityclub.org/event/amity-meeting-11/
LOCATION:Anthony’s Ocean View\, 450 Lighthouse Road\, New Haven\, CT\, 06512
CATEGORIES:Regular Meeting (Open)
END:VEVENT
BEGIN:VEVENT
DTSTART;TZID=America/New_York:20230307T173000
DTEND;TZID=America/New_York:20230307T200000
DTSTAMP:20260423T112317
CREATED:20220901T181610Z
LAST-MODIFIED:20230105T190240Z
UID:423714-1678210200-1678219200@amityclub.org
SUMMARY:Amity Meeting
DESCRIPTION: 
URL:https://amityclub.org/event/amity-meeting-10/
LOCATION:Anthony’s Ocean View\, 450 Lighthouse Road\, New Haven\, CT\, 06512
CATEGORIES:Regular Meeting (Open)
END:VEVENT
BEGIN:VEVENT
DTSTART;VALUE=DATE:20230301
DTEND;VALUE=DATE:20230302
DTSTAMP:20260423T112317
CREATED:20220901T181532Z
LAST-MODIFIED:20220901T181532Z
UID:423712-1677628800-1677715199@amityclub.org
SUMMARY:New Member applications due for May induction
DESCRIPTION: 
URL:https://amityclub.org/event/new-member-applications-due-for-may-induction/
LOCATION:CT
END:VEVENT
BEGIN:VEVENT
DTSTART;TZID=America/New_York:20230221T173000
DTEND;TZID=America/New_York:20230221T200000
DTSTAMP:20260423T112317
CREATED:20220901T181445Z
LAST-MODIFIED:20230105T190212Z
UID:423710-1677000600-1677009600@amityclub.org
SUMMARY:Amity Meeting
DESCRIPTION: 
URL:https://amityclub.org/event/amity-meeting-9/
LOCATION:Anthony’s Ocean View\, 450 Lighthouse Road\, New Haven\, CT\, 06512
CATEGORIES:Regular Meeting (Open)
END:VEVENT
BEGIN:VEVENT
DTSTART;TZID=America/New_York:20230207T173000
DTEND;TZID=America/New_York:20230207T200000
DTSTAMP:20260423T112317
CREATED:20220901T181353Z
LAST-MODIFIED:20230105T190141Z
UID:423708-1675791000-1675800000@amityclub.org
SUMMARY:Amity Meeting
DESCRIPTION: 
URL:https://amityclub.org/event/amity-meeting-8/
LOCATION:Anthony’s Ocean View\, 450 Lighthouse Road\, New Haven\, CT\, 06512
CATEGORIES:Regular Meeting (Open)
END:VEVENT
BEGIN:VEVENT
DTSTART;TZID=America/New_York:20230117T173000
DTEND;TZID=America/New_York:20230117T200000
DTSTAMP:20260423T112317
CREATED:20220901T181233Z
LAST-MODIFIED:20230105T190130Z
UID:423706-1673976600-1673985600@amityclub.org
SUMMARY:Amity Meeting - New Member Induction
DESCRIPTION: 
URL:https://amityclub.org/event/amity-meeting-new-member-induction/
LOCATION:Anthony’s Ocean View\, 450 Lighthouse Road\, New Haven\, CT\, 06512
CATEGORIES:Regular Meeting (Open),Special Event
END:VEVENT
BEGIN:VEVENT
DTSTART;TZID=America/New_York:20230103T170000
DTEND;TZID=America/New_York:20230103T200000
DTSTAMP:20260423T112317
CREATED:20220901T181126Z
LAST-MODIFIED:20220901T181126Z
UID:423704-1672765200-1672776000@amityclub.org
SUMMARY:Amity Meeting - Sons & Daughters Night
DESCRIPTION: 
URL:https://amityclub.org/event/amity-meeting-sons-daughters-night/
LOCATION:Anthony’s Ocean View\, 450 Lighthouse Road\, New Haven\, CT\, 06512
CATEGORIES:Regular Meeting (Open),Special Event
END:VEVENT
BEGIN:VEVENT
DTSTART;TZID=America/New_York:20221213T170000
DTEND;TZID=America/New_York:20221213T200000
DTSTAMP:20260423T112317
CREATED:20220901T181014Z
LAST-MODIFIED:20220901T182451Z
UID:423702-1670950800-1670961600@amityclub.org
SUMMARY:Amity Meeting - Christmas Party
DESCRIPTION: 
URL:https://amityclub.org/event/amity-meeting-christmas-party/
LOCATION:Anthony’s Ocean View\, 450 Lighthouse Road\, New Haven\, CT\, 06512
CATEGORIES:Regular Meeting (Open),Special Event
END:VEVENT
BEGIN:VEVENT
DTSTART;TZID=America/New_York:20221115T170000
DTEND;TZID=America/New_York:20221115T200000
DTSTAMP:20260423T112317
CREATED:20220901T180859Z
LAST-MODIFIED:20220901T180859Z
UID:423700-1668531600-1668542400@amityclub.org
SUMMARY:Amity Meeting - Frank Rubino Night
DESCRIPTION: 
URL:https://amityclub.org/event/amity-meeting-frank-rubino-night/
LOCATION:Anthony’s Ocean View\, 450 Lighthouse Road\, New Haven\, CT\, 06512
CATEGORIES:Regular Meeting (Open),Special Event
END:VEVENT
BEGIN:VEVENT
DTSTART;TZID=America/New_York:20221101T170000
DTEND;TZID=America/New_York:20221101T200000
DTSTAMP:20260423T112317
CREATED:20220901T180659Z
LAST-MODIFIED:20220901T180918Z
UID:423698-1667322000-1667332800@amityclub.org
SUMMARY:Amity Meeting - ACT Financial Report
DESCRIPTION: 
URL:https://amityclub.org/event/amity-meeting-act-financial-report/
LOCATION:Anthony’s Ocean View\, 450 Lighthouse Road\, New Haven\, CT\, 06512
CATEGORIES:Regular Meeting (Closed),Special Event
END:VEVENT
BEGIN:VEVENT
DTSTART;VALUE=DATE:20221031
DTEND;VALUE=DATE:20221101
DTSTAMP:20260423T112317
CREATED:20220901T180604Z
LAST-MODIFIED:20220901T180604Z
UID:423696-1667174400-1667260799@amityclub.org
SUMMARY:New Member applications due for January induction
DESCRIPTION: 
URL:https://amityclub.org/event/new-member-applications-due-for-january-induction/
LOCATION:CT
CATEGORIES:Special Event
END:VEVENT
BEGIN:VEVENT
DTSTART;TZID=America/New_York:20221018T170000
DTEND;TZID=America/New_York:20221018T200000
DTSTAMP:20260423T112317
CREATED:20220901T180453Z
LAST-MODIFIED:20220901T180530Z
UID:423693-1666112400-1666123200@amityclub.org
SUMMARY:Amity Meeting
DESCRIPTION: 
URL:https://amityclub.org/event/amity-meeting-10-18-2022/
LOCATION:Anthony’s Ocean View\, 450 Lighthouse Road\, New Haven\, CT\, 06512
CATEGORIES:Regular Meeting (Open)
END:VEVENT
END:VCALENDAR