BEGIN:VCALENDAR
VERSION:2.0
PRODID:-//Amity Club of New Haven - ECPv6.15.20//NONSGML v1.0//EN
CALSCALE:GREGORIAN
METHOD:PUBLISH
X-WR-CALNAME:Amity Club of New Haven
X-ORIGINAL-URL:https://amityclub.org
X-WR-CALDESC:Events for Amity Club of New Haven
REFRESH-INTERVAL;VALUE=DURATION:PT1H
X-Robots-Tag:noindex
X-PUBLISHED-TTL:PT1H
BEGIN:VTIMEZONE
TZID:America/New_York
BEGIN:DAYLIGHT
TZOFFSETFROM:-0500
TZOFFSETTO:-0400
TZNAME:EDT
DTSTART:20190310T070000
END:DAYLIGHT
BEGIN:STANDARD
TZOFFSETFROM:-0400
TZOFFSETTO:-0500
TZNAME:EST
DTSTART:20191103T060000
END:STANDARD
BEGIN:DAYLIGHT
TZOFFSETFROM:-0500
TZOFFSETTO:-0400
TZNAME:EDT
DTSTART:20200308T070000
END:DAYLIGHT
BEGIN:STANDARD
TZOFFSETFROM:-0400
TZOFFSETTO:-0500
TZNAME:EST
DTSTART:20201101T060000
END:STANDARD
BEGIN:DAYLIGHT
TZOFFSETFROM:-0500
TZOFFSETTO:-0400
TZNAME:EDT
DTSTART:20210314T070000
END:DAYLIGHT
BEGIN:STANDARD
TZOFFSETFROM:-0400
TZOFFSETTO:-0500
TZNAME:EST
DTSTART:20211107T060000
END:STANDARD
BEGIN:DAYLIGHT
TZOFFSETFROM:-0500
TZOFFSETTO:-0400
TZNAME:EDT
DTSTART:20220313T070000
END:DAYLIGHT
BEGIN:STANDARD
TZOFFSETFROM:-0400
TZOFFSETTO:-0500
TZNAME:EST
DTSTART:20221106T060000
END:STANDARD
BEGIN:DAYLIGHT
TZOFFSETFROM:-0500
TZOFFSETTO:-0400
TZNAME:EDT
DTSTART:20230312T070000
END:DAYLIGHT
BEGIN:STANDARD
TZOFFSETFROM:-0400
TZOFFSETTO:-0500
TZNAME:EST
DTSTART:20231105T060000
END:STANDARD
END:VTIMEZONE
BEGIN:VEVENT
DTSTART;TZID=America/New_York:20221213T170000
DTEND;TZID=America/New_York:20221213T200000
DTSTAMP:20260423T111431
CREATED:20220901T181014Z
LAST-MODIFIED:20220901T182451Z
UID:423702-1670950800-1670961600@amityclub.org
SUMMARY:Amity Meeting - Christmas Party
DESCRIPTION: 
URL:https://amityclub.org/event/amity-meeting-christmas-party/
LOCATION:Anthony’s Ocean View\, 450 Lighthouse Road\, New Haven\, CT\, 06512
CATEGORIES:Regular Meeting (Open),Special Event
END:VEVENT
BEGIN:VEVENT
DTSTART;TZID=America/New_York:20221115T170000
DTEND;TZID=America/New_York:20221115T200000
DTSTAMP:20260423T111431
CREATED:20220901T180859Z
LAST-MODIFIED:20220901T180859Z
UID:423700-1668531600-1668542400@amityclub.org
SUMMARY:Amity Meeting - Frank Rubino Night
DESCRIPTION: 
URL:https://amityclub.org/event/amity-meeting-frank-rubino-night/
LOCATION:Anthony’s Ocean View\, 450 Lighthouse Road\, New Haven\, CT\, 06512
CATEGORIES:Regular Meeting (Open),Special Event
END:VEVENT
BEGIN:VEVENT
DTSTART;TZID=America/New_York:20221101T170000
DTEND;TZID=America/New_York:20221101T200000
DTSTAMP:20260423T111431
CREATED:20220901T180659Z
LAST-MODIFIED:20220901T180918Z
UID:423698-1667322000-1667332800@amityclub.org
SUMMARY:Amity Meeting - ACT Financial Report
DESCRIPTION: 
URL:https://amityclub.org/event/amity-meeting-act-financial-report/
LOCATION:Anthony’s Ocean View\, 450 Lighthouse Road\, New Haven\, CT\, 06512
CATEGORIES:Regular Meeting (Closed),Special Event
END:VEVENT
BEGIN:VEVENT
DTSTART;VALUE=DATE:20221031
DTEND;VALUE=DATE:20221101
DTSTAMP:20260423T111431
CREATED:20220901T180604Z
LAST-MODIFIED:20220901T180604Z
UID:423696-1667174400-1667260799@amityclub.org
SUMMARY:New Member applications due for January induction
DESCRIPTION: 
URL:https://amityclub.org/event/new-member-applications-due-for-january-induction/
LOCATION:CT
CATEGORIES:Special Event
END:VEVENT
BEGIN:VEVENT
DTSTART;TZID=America/New_York:20221018T170000
DTEND;TZID=America/New_York:20221018T200000
DTSTAMP:20260423T111431
CREATED:20220901T180453Z
LAST-MODIFIED:20220901T180530Z
UID:423693-1666112400-1666123200@amityclub.org
SUMMARY:Amity Meeting
DESCRIPTION: 
URL:https://amityclub.org/event/amity-meeting-10-18-2022/
LOCATION:Anthony’s Ocean View\, 450 Lighthouse Road\, New Haven\, CT\, 06512
CATEGORIES:Regular Meeting (Open)
END:VEVENT
BEGIN:VEVENT
DTSTART;TZID=America/New_York:20221004T170000
DTEND;TZID=America/New_York:20221004T200000
DTSTAMP:20260423T111431
CREATED:20220901T180322Z
LAST-MODIFIED:20220901T180322Z
UID:423691-1664902800-1664913600@amityclub.org
SUMMARY:Amity Meeting
DESCRIPTION: 
URL:https://amityclub.org/event/amity-meeting-7/
LOCATION:Anthony’s Ocean View\, 450 Lighthouse Road\, New Haven\, CT\, 06512
CATEGORIES:Regular Meeting (Open)
END:VEVENT
BEGIN:VEVENT
DTSTART;TZID=America/New_York:20220920T170000
DTEND;TZID=America/New_York:20220920T200000
DTSTAMP:20260423T111431
CREATED:20220901T180117Z
LAST-MODIFIED:20220901T180117Z
UID:423689-1663693200-1663704000@amityclub.org
SUMMARY:Amity Meeting
DESCRIPTION: 
URL:https://amityclub.org/event/amity-meeting-6/
LOCATION:Anthony’s Ocean View\, 450 Lighthouse Road\, New Haven\, CT\, 06512
CATEGORIES:Regular Meeting (Open)
END:VEVENT
BEGIN:VEVENT
DTSTART;TZID=America/New_York:20220906T170000
DTEND;TZID=America/New_York:20220906T200000
DTSTAMP:20260423T111431
CREATED:20220103T150221Z
LAST-MODIFIED:20220901T175933Z
UID:423445-1662483600-1662494400@amityclub.org
SUMMARY:Amity Meeting - President’s Project Announced
DESCRIPTION: 
URL:https://amityclub.org/event/amity-meeting-9-6-2022/
LOCATION:Anthony’s Ocean View\, 450 Lighthouse Road\, New Haven\, CT\, 06512
CATEGORIES:Regular Meeting (Closed),Special Event
END:VEVENT
BEGIN:VEVENT
DTSTART;TZID=America/New_York:20220621T170000
DTEND;TZID=America/New_York:20220621T200000
DTSTAMP:20260423T111431
CREATED:20220901T175417Z
LAST-MODIFIED:20220901T175417Z
UID:423687-1655830800-1655841600@amityclub.org
SUMMARY:President’s Farewell Meeting Copy
DESCRIPTION:
URL:https://amityclub.org/event/presidents-farewell-meeting-copy/
LOCATION:Anthony’s Ocean View\, 450 Lighthouse Road\, New Haven\, CT\, 06512
CATEGORIES:Regular Meeting (Closed),Special Event
END:VEVENT
BEGIN:VEVENT
DTSTART;TZID=America/New_York:20220610T170000
DTEND;TZID=America/New_York:20220610T210000
DTSTAMP:20260423T111431
CREATED:20220103T150136Z
LAST-MODIFIED:20220321T182046Z
UID:423443-1654880400-1654894800@amityclub.org
SUMMARY:Inaugural Ball
DESCRIPTION:
URL:https://amityclub.org/event/inaugural-ball-3/
LOCATION:Anthony’s Ocean View\, 450 Lighthouse Road\, New Haven\, CT\, 06512
CATEGORIES:Special Event
END:VEVENT
BEGIN:VEVENT
DTSTART;TZID=America/New_York:20220607T170000
DTEND;TZID=America/New_York:20220607T200000
DTSTAMP:20260423T111432
CREATED:20220103T150027Z
LAST-MODIFIED:20220103T150027Z
UID:423441-1654621200-1654632000@amityclub.org
SUMMARY:Scholarship Awards Night
DESCRIPTION:
URL:https://amityclub.org/event/scholarship-awards-night/
LOCATION:Anthony’s Ocean View\, 450 Lighthouse Road\, New Haven\, CT\, 06512
CATEGORIES:Regular Meeting (Open),Special Event
END:VEVENT
BEGIN:VEVENT
DTSTART;TZID=America/New_York:20220517T170000
DTEND;TZID=America/New_York:20220517T200000
DTSTAMP:20260423T111432
CREATED:20211109T010315Z
LAST-MODIFIED:20220405T181112Z
UID:422294-1652806800-1652817600@amityclub.org
SUMMARY:Worthy Projects Awards Dinner
DESCRIPTION:More Information to come …. !
URL:https://amityclub.org/event/worthy-projects-awards-dinner/
LOCATION:Anthony’s Ocean View\, 450 Lighthouse Road\, New Haven\, CT\, 06512
CATEGORIES:Regular Meeting (Open),Special Event
END:VEVENT
BEGIN:VEVENT
DTSTART;TZID=America/New_York:20220503T170000
DTEND;TZID=America/New_York:20220503T200000
DTSTAMP:20260423T111432
CREATED:20220103T145819Z
LAST-MODIFIED:20220103T145819Z
UID:423439-1651597200-1651608000@amityclub.org
SUMMARY:New Member Induction & Election of Directors
DESCRIPTION:
URL:https://amityclub.org/event/new-member-induction-election-of-directors/
LOCATION:Anthony’s Ocean View\, 450 Lighthouse Road\, New Haven\, CT\, 06512
CATEGORIES:Regular Meeting (Closed)
END:VEVENT
BEGIN:VEVENT
DTSTART;TZID=America/New_York:20220419T170000
DTEND;TZID=America/New_York:20220419T200000
DTSTAMP:20260423T111432
CREATED:20220103T145409Z
LAST-MODIFIED:20220405T180845Z
UID:423435-1650387600-1650398400@amityclub.org
SUMMARY:Nomination of New Directors
DESCRIPTION:
URL:https://amityclub.org/event/nomination-of-new-directors/
LOCATION:Anthony’s Ocean View\, 450 Lighthouse Road\, New Haven\, CT\, 06512
CATEGORIES:Regular Meeting (Closed)
END:VEVENT
BEGIN:VEVENT
DTSTART;TZID=America/New_York:20220405T170000
DTEND;TZID=America/New_York:20220405T200000
DTSTAMP:20260423T111432
CREATED:20220103T145517Z
LAST-MODIFIED:20220405T180931Z
UID:423437-1649178000-1649188800@amityclub.org
SUMMARY:Amity Meeting
DESCRIPTION:
URL:https://amityclub.org/event/amity-meeting-5/
LOCATION:Anthony’s Ocean View\, 450 Lighthouse Road\, New Haven\, CT\, 06512
CATEGORIES:Regular Meeting (Open)
END:VEVENT
BEGIN:VEVENT
DTSTART;TZID=America/New_York:20220315T170000
DTEND;TZID=America/New_York:20220315T200000
DTSTAMP:20260423T111432
CREATED:20220103T145123Z
LAST-MODIFIED:20220103T145157Z
UID:423431-1647363600-1647374400@amityclub.org
SUMMARY:Amity Meeting
DESCRIPTION:
URL:https://amityclub.org/event/amity-meeting-4/
LOCATION:Anthony’s Ocean View\, 450 Lighthouse Road\, New Haven\, CT\, 06512
CATEGORIES:Regular Meeting (Open)
END:VEVENT
BEGIN:VEVENT
DTSTART;TZID=America/New_York:20220301T170000
DTEND;TZID=America/New_York:20220301T200000
DTSTAMP:20260423T111432
CREATED:20220103T145134Z
LAST-MODIFIED:20220103T145237Z
UID:423433-1646154000-1646164800@amityclub.org
SUMMARY:Amity Meeting
DESCRIPTION:
URL:https://amityclub.org/event/amity-meeting-3/
LOCATION:Anthony’s Ocean View\, 450 Lighthouse Road\, New Haven\, CT\, 06512
CATEGORIES:Regular Meeting (Open)
END:VEVENT
BEGIN:VEVENT
DTSTART;VALUE=DATE:20220301
DTEND;VALUE=DATE:20220302
DTSTAMP:20260423T111432
CREATED:20220103T145022Z
LAST-MODIFIED:20220103T145022Z
UID:423429-1646092800-1646179199@amityclub.org
SUMMARY:New Member Applications Due
DESCRIPTION:New Member applications due for 5/3/22 induction. \nEducation meeting for new members scheduled for (TBD) 
URL:https://amityclub.org/event/new-member-applications-due/
LOCATION:CT
CATEGORIES:Special Event
END:VEVENT
BEGIN:VEVENT
DTSTART;TZID=America/New_York:20220215T170000
DTEND;TZID=America/New_York:20220215T200000
DTSTAMP:20260423T111432
CREATED:20220103T144853Z
LAST-MODIFIED:20220103T144853Z
UID:423427-1644944400-1644955200@amityclub.org
SUMMARY:Amity Meeting
DESCRIPTION:
URL:https://amityclub.org/event/amity-meeting-2/
LOCATION:Anthony’s Ocean View\, 450 Lighthouse Road\, New Haven\, CT\, 06512
CATEGORIES:Regular Meeting (Open)
END:VEVENT
BEGIN:VEVENT
DTSTART;TZID=America/New_York:20220201T170000
DTEND;TZID=America/New_York:20220201T200000
DTSTAMP:20260423T111432
CREATED:20220103T144802Z
LAST-MODIFIED:20220103T144802Z
UID:423425-1643734800-1643745600@amityclub.org
SUMMARY:Amity Meeting
DESCRIPTION:
URL:https://amityclub.org/event/amity-meeting/
LOCATION:Anthony’s Ocean View\, 450 Lighthouse Road\, New Haven\, CT\, 06512
CATEGORIES:Regular Meeting (Open)
END:VEVENT
BEGIN:VEVENT
DTSTART;TZID=America/New_York:20220118T170000
DTEND;TZID=America/New_York:20220118T200000
DTSTAMP:20260423T111432
CREATED:20220103T144612Z
LAST-MODIFIED:20220103T144612Z
UID:423423-1642525200-1642536000@amityclub.org
SUMMARY:New Member Induction
DESCRIPTION:
URL:https://amityclub.org/event/new-member-induction/
LOCATION:Anthony’s Ocean View\, 450 Lighthouse Road\, New Haven\, CT\, 06512
CATEGORIES:Regular Meeting (Open),Special Event
END:VEVENT
BEGIN:VEVENT
DTSTART;TZID=America/New_York:20220104T170000
DTEND;TZID=America/New_York:20220104T200000
DTSTAMP:20260423T111432
CREATED:20220103T144417Z
LAST-MODIFIED:20220103T144447Z
UID:423421-1641315600-1641326400@amityclub.org
SUMMARY:Son’s & Daughter’s Night
DESCRIPTION:
URL:https://amityclub.org/event/sons-daughters-night/
LOCATION:Anthony’s Ocean View\, 450 Lighthouse Road\, New Haven\, CT\, 06512
END:VEVENT
BEGIN:VEVENT
DTSTART;TZID=America/New_York:20211214T180000
DTEND;TZID=America/New_York:20211214T220000
DTSTAMP:20260423T111432
CREATED:20211130T224924Z
LAST-MODIFIED:20211130T233111Z
UID:422705-1639504800-1639519200@amityclub.org
SUMMARY:2021 Annual Christmas Party
DESCRIPTION:Download (PDF\, 1.15MB)
URL:https://amityclub.org/event/amity-club-annual-christmas-party-2021/
LOCATION:Anthony’s Ocean View\, 450 Lighthouse Road\, New Haven\, CT\, 06512
CATEGORIES:Special Event
END:VEVENT
BEGIN:VEVENT
DTSTART;TZID=America/New_York:20210209T180000
DTEND;TZID=America/New_York:20210209T200000
DTSTAMP:20260423T111432
CREATED:20210117T192456Z
LAST-MODIFIED:20210117T194616Z
UID:422237-1612893600-1612900800@amityclub.org
SUMMARY:Board of Directors Meeting - Zoom Meeting
DESCRIPTION:For your safety during the pandemic\, participation in this meeting is also available via ZOOM.  \nA ZOOM link will be sent out prior to the meeting. 
URL:https://amityclub.org/event/board-of-directors-meeting-67-copy/
LOCATION:Brazi’s Italian Restaurant and Via ZOOM\, 201 Food Terminal Plaza\, New Haven\, CT\, 06511
CATEGORIES:Board of Directors Meetings
END:VEVENT
BEGIN:VEVENT
DTSTART;TZID=America/New_York:20210119T180000
DTEND;TZID=America/New_York:20210119T200000
DTSTAMP:20260423T111432
CREATED:20210117T191749Z
LAST-MODIFIED:20210117T193034Z
UID:422234-1611079200-1611086400@amityclub.org
SUMMARY:Open Meeting - Via Zoom
DESCRIPTION:See Zoom link below.  \nOur guest speaker for Tuesday is Willard Revaz who will be speaking about the Model T Ford and about his cross country trips with organizations who’s members drive their Model T’s on that trip.\n \nPlease feel free to send the meeting link to your prospective members.\n \n\n\nThe Amity Club is inviting you to a scheduled Zoom meeting. \nTopic: Amity Club open meeting\nTime: Jan 19\, 2021 07:00 PM Eastern Time (US and Canada) \nJoin Zoom Meeting\n \nhttps://us02web.zoom.us/j/4567891936?pwd=Tzg2b0NtTlozN2tmQndPZE80d05iZz09 \nMeeting ID: 456 789 1936 \nPasscode: 1936\n_______________________________________________\n \nFor smart phones:\n \nOne tap mobile\n+16468769923\,\,4567891936#\,\,\,\,*1936# US (New York) \nMeeting ID: 456 789 1936\nPasscode: 1936\nFind your local number: https://us02web.zoom.us/u/k
URL:https://amityclub.org/event/regular-meeting-open-via-zoom/
LOCATION:For your safety during the Pandemic this meeting will be conducted via ZOOM
CATEGORIES:Regular Meeting (Open)
END:VEVENT
BEGIN:VEVENT
DTSTART;TZID=America/New_York:20210112T180000
DTEND;TZID=America/New_York:20210112T200000
DTSTAMP:20260423T111432
CREATED:20201015T165944Z
LAST-MODIFIED:20201129T175125Z
UID:422146-1610474400-1610481600@amityclub.org
SUMMARY:Board of Directors Meeting - Zoom Meeting
DESCRIPTION:
URL:https://amityclub.org/event/board-of-directors-meeting-67/
LOCATION:For your safety during the Pandemic this meeting will be conducted via ZOOM
CATEGORIES:Board of Directors Meetings
END:VEVENT
BEGIN:VEVENT
DTSTART;TZID=America/New_York:20201208T170000
DTEND;TZID=America/New_York:20201208T230000
DTSTAMP:20260423T111432
CREATED:20201015T164940Z
LAST-MODIFIED:20201129T174704Z
UID:422136-1607446800-1607468400@amityclub.org
SUMMARY:This event has been cancelled due to COVID-19 Regular Meeting (Christmas Party)
DESCRIPTION:
URL:https://amityclub.org/event/regular-meeting-open-to-guests-christmas-party/
LOCATION:Anthony’s Ocean View\, 450 Lighthouse Road\, New Haven\, CT\, 06512
CATEGORIES:Regular Meeting (Open)
END:VEVENT
BEGIN:VEVENT
DTSTART;TZID=America/New_York:20201207T180000
DTEND;TZID=America/New_York:20201207T200000
DTSTAMP:20260423T111432
CREATED:20201015T165622Z
LAST-MODIFIED:20201129T174919Z
UID:422143-1607364000-1607371200@amityclub.org
SUMMARY:Board of Directors Meeting - Zoom Meeting
DESCRIPTION:
URL:https://amityclub.org/event/board-of-directors-meeting-66/
LOCATION:For your safety during the Pandemic this meeting will be conducted via ZOOM
CATEGORIES:Board of Directors Meetings
END:VEVENT
BEGIN:VEVENT
DTSTART;TZID=America/New_York:20201117T180000
DTEND;TZID=America/New_York:20201117T200000
DTSTAMP:20260423T111432
CREATED:20201015T164531Z
LAST-MODIFIED:20201116T145447Z
UID:422134-1605636000-1605643200@amityclub.org
SUMMARY:Closed Meeting - Via Zoom
DESCRIPTION:A Zoom link will be sent to you prior to the meeting. Mike Maddelena will be presenting the Trust information for last year in this closed meeting. We will also provide more information on the Amity Club meeting schedule and other important activity information.
URL:https://amityclub.org/event/regular-meeting-open-frank-rubino-night-6/
LOCATION:For your safety during the Pandemic this meeting will be conducted via ZOOM
CATEGORIES:Regular Meeting (Open)
END:VEVENT
BEGIN:VEVENT
DTSTART;TZID=America/New_York:20201110T180000
DTEND;TZID=America/New_York:20201110T200000
DTSTAMP:20260423T111432
CREATED:20201013T210400Z
LAST-MODIFIED:20201013T211400Z
UID:422117-1605031200-1605038400@amityclub.org
SUMMARY:Board of Directors Meeting
DESCRIPTION:Brazi’s Italian Restaurant\, 201 Food Terminal Plaza New Haven\, CT 06511 + Google Map Board of Directors Meeting
URL:https://amityclub.org/event/board-of-directors-meeting-65/
LOCATION:Brazi’s Italian Restaurant and Via ZOOM\, 201 Food Terminal Plaza\, New Haven\, CT\, 06511
CATEGORIES:Board of Directors Meetings
END:VEVENT
END:VCALENDAR