BEGIN:VCALENDAR
VERSION:2.0
PRODID:-//Amity Club of New Haven - ECPv6.15.20//NONSGML v1.0//EN
CALSCALE:GREGORIAN
METHOD:PUBLISH
X-WR-CALNAME:Amity Club of New Haven
X-ORIGINAL-URL:https://amityclub.org
X-WR-CALDESC:Events for Amity Club of New Haven
REFRESH-INTERVAL;VALUE=DURATION:PT1H
X-Robots-Tag:noindex
X-PUBLISHED-TTL:PT1H
BEGIN:VTIMEZONE
TZID:America/New_York
BEGIN:DAYLIGHT
TZOFFSETFROM:-0500
TZOFFSETTO:-0400
TZNAME:EDT
DTSTART:20160313T070000
END:DAYLIGHT
BEGIN:STANDARD
TZOFFSETFROM:-0400
TZOFFSETTO:-0500
TZNAME:EST
DTSTART:20161106T060000
END:STANDARD
BEGIN:DAYLIGHT
TZOFFSETFROM:-0500
TZOFFSETTO:-0400
TZNAME:EDT
DTSTART:20170312T070000
END:DAYLIGHT
BEGIN:STANDARD
TZOFFSETFROM:-0400
TZOFFSETTO:-0500
TZNAME:EST
DTSTART:20171105T060000
END:STANDARD
BEGIN:DAYLIGHT
TZOFFSETFROM:-0500
TZOFFSETTO:-0400
TZNAME:EDT
DTSTART:20180311T070000
END:DAYLIGHT
BEGIN:STANDARD
TZOFFSETFROM:-0400
TZOFFSETTO:-0500
TZNAME:EST
DTSTART:20181104T060000
END:STANDARD
BEGIN:DAYLIGHT
TZOFFSETFROM:-0500
TZOFFSETTO:-0400
TZNAME:EDT
DTSTART:20190310T070000
END:DAYLIGHT
BEGIN:STANDARD
TZOFFSETFROM:-0400
TZOFFSETTO:-0500
TZNAME:EST
DTSTART:20191103T060000
END:STANDARD
END:VTIMEZONE
BEGIN:VEVENT
DTSTART;TZID=America/New_York:20180727T080000
DTEND;TZID=America/New_York:20180727T170000
DTSTAMP:20260423T135135
CREATED:20170803T174616Z
LAST-MODIFIED:20180702T181813Z
UID:2615-1532678400-1532710800@amityclub.org
SUMMARY:Past Presidents’ Meeting
DESCRIPTION:
URL:https://amityclub.org/event/past-presidents-meeting/
END:VEVENT
BEGIN:VEVENT
DTSTART;TZID=America/New_York:20180721T120000
DTEND;TZID=America/New_York:20180721T200000
DTSTAMP:20260423T135135
CREATED:20170803T174212Z
LAST-MODIFIED:20180702T182401Z
UID:2612-1532174400-1532203200@amityclub.org
SUMMARY:2018 Family Picnic
DESCRIPTION:Come for the food\, drinks\, games\, music and memories!!! \nLunch: Hot Dogs\, Hamburgers\, Sausage Patties\, Fried Dough\, Rhode Island Clam Chowder \nDinner: Ziti Dinner w/Sausage & Meatballs\, Pot Luck of Salads\, Sides\, & Desserts \nWine\, Beer\, Soft Drinks & Water included \n(BYOB Personal Alcoholic Preference) \n$35 Per Person (Children 13 & Under Free) \nPlease Respond By July 11\, 2018 \nRegistration Form \nPlease contact: \nVincent Pacelli (203) 444-4604 \nPat Panza (203) 627-5994 \nBill Parisi (203) 808-2893 \nBob Piscitelli (203) 415-5055
URL:https://amityclub.org/event/amity-club-family-picnic-2018/
LOCATION:Westbrook Elks Lodge\, 142 Seaside Avenue\, Westbrook\, CT\, 06498
CATEGORIES:Special Event
END:VEVENT
BEGIN:VEVENT
DTSTART;TZID=America/New_York:20180619T171500
DTEND;TZID=America/New_York:20180619T201500
DTSTAMP:20260423T135135
CREATED:20170803T164309Z
LAST-MODIFIED:20170803T170859Z
UID:2564-1529428500-1529439300@amityclub.org
SUMMARY:Regular Meeting (Closed) - President’s Farewell Address
DESCRIPTION:Regular Meeting (Closed) – President’s Farewell Address
URL:https://amityclub.org/event/regular-meeting-closed-presidents-farewell-address-3/
LOCATION:Anthony’s Ocean View\, 450 Lighthouse Road\, New Haven\, CT\, 06512
CATEGORIES:Regular Meeting (Closed)
END:VEVENT
BEGIN:VEVENT
DTSTART;TZID=America/New_York:20180612T180000
DTEND;TZID=America/New_York:20180612T200000
DTSTAMP:20260423T135135
CREATED:20170803T164309Z
LAST-MODIFIED:20170803T171420Z
UID:2563-1528826400-1528833600@amityclub.org
SUMMARY:Board of Directors Meeting
DESCRIPTION:Board of Directors Meeting
URL:https://amityclub.org/event/board-of-directors-meeting-32/
LOCATION:Brazi’s Italian Restaurant and Via ZOOM\, 201 Food Terminal Plaza\, New Haven\, CT\, 06511
CATEGORIES:Board of Directors Meetings
END:VEVENT
BEGIN:VEVENT
DTSTART;TZID=America/New_York:20180608T171500
DTEND;TZID=America/New_York:20180608T201500
DTSTAMP:20260423T135135
CREATED:20170803T164309Z
LAST-MODIFIED:20170803T180215Z
UID:2562-1528478100-1528488900@amityclub.org
SUMMARY:2018 Inaugural Ball - (Open)
DESCRIPTION:Inaugural Ball (Open To Guests)
URL:https://amityclub.org/event/2018-inaugural-ball-open/
LOCATION:Anthony’s Ocean View\, 450 Lighthouse Road\, New Haven\, CT\, 06512
CATEGORIES:Special Event
END:VEVENT
BEGIN:VEVENT
DTSTART;TZID=America/New_York:20180605T171500
DTEND;TZID=America/New_York:20180605T201500
DTSTAMP:20260423T135135
CREATED:20170803T164309Z
LAST-MODIFIED:20170803T202403Z
UID:2561-1528218900-1528229700@amityclub.org
SUMMARY:Scholarship Awards Night - Regular Meeting (Open)
DESCRIPTION:Regular Meeting (Open To Guests) Guest Speaker (TBA)
URL:https://amityclub.org/event/scholarship-awards-night-regular-meeting-open/
LOCATION:Anthony’s Ocean View\, 450 Lighthouse Road\, New Haven\, CT\, 06512
CATEGORIES:Regular Meeting (Open),Special Event
END:VEVENT
BEGIN:VEVENT
DTSTART;TZID=America/New_York:20180515T171500
DTEND;TZID=America/New_York:20180515T201500
DTSTAMP:20260423T135135
CREATED:20170803T164309Z
LAST-MODIFIED:20170803T202319Z
UID:2560-1526404500-1526415300@amityclub.org
SUMMARY:Worthy Projects - Regular Meeting (Open)
DESCRIPTION:Regular Meeting (Open To Guests) – Worthy Projects
URL:https://amityclub.org/event/worthy-projects-regular-meeting-open/
LOCATION:Anthony’s Ocean View\, 450 Lighthouse Road\, New Haven\, CT\, 06512
CATEGORIES:Regular Meeting (Open),Special Event
END:VEVENT
BEGIN:VEVENT
DTSTART;TZID=America/New_York:20180508T180000
DTEND;TZID=America/New_York:20180508T200000
DTSTAMP:20260423T135135
CREATED:20170803T164309Z
LAST-MODIFIED:20170803T171422Z
UID:2559-1525802400-1525809600@amityclub.org
SUMMARY:Board of Directors Meeting
DESCRIPTION:Board of Directors Meeting
URL:https://amityclub.org/event/board-of-directors-meeting-31/
LOCATION:Brazi’s Italian Restaurant and Via ZOOM\, 201 Food Terminal Plaza\, New Haven\, CT\, 06511
CATEGORIES:Board of Directors Meetings
END:VEVENT
BEGIN:VEVENT
DTSTART;TZID=America/New_York:20180501T171500
DTEND;TZID=America/New_York:20180501T201500
DTSTAMP:20260423T135135
CREATED:20170803T164309Z
LAST-MODIFIED:20170803T170016Z
UID:2558-1525194900-1525205700@amityclub.org
SUMMARY:Regular Meeting (Closed) - Induction of New Members & Election of New Board Members
DESCRIPTION:Regular Meeting (Closed) – Induction of New Members & Election of New Board Members
URL:https://amityclub.org/event/regular-meeting-closed-induction-of-new-members-election-of-new-board-members-4/
LOCATION:Anthony’s Ocean View\, 450 Lighthouse Road\, New Haven\, CT\, 06512
CATEGORIES:Regular Meeting (Closed)
END:VEVENT
BEGIN:VEVENT
DTSTART;TZID=America/New_York:20180428T080000
DTEND;TZID=America/New_York:20180428T170000
DTSTAMP:20260423T135135
CREATED:20170803T175222Z
LAST-MODIFIED:20170803T175222Z
UID:2622-1524902400-1524934800@amityclub.org
SUMMARY:Spring Bus Trip - (Location To Be Determined)
DESCRIPTION:
URL:https://amityclub.org/event/spring-bus-trip-location-to-be-determined/
END:VEVENT
BEGIN:VEVENT
DTSTART;TZID=America/New_York:20180417T171500
DTEND;TZID=America/New_York:20180417T201500
DTSTAMP:20260423T135135
CREATED:20170803T164309Z
LAST-MODIFIED:20170803T170040Z
UID:2557-1523985300-1523996100@amityclub.org
SUMMARY:Regular Meeting (Open) - Speaker
DESCRIPTION:Regular Meeting (Open To Guests) Guest Speaker (TBA)
URL:https://amityclub.org/event/regular-meeting-open-speaker-11/
LOCATION:Anthony’s Ocean View\, 450 Lighthouse Road\, New Haven\, CT\, 06512
CATEGORIES:Regular Meeting (Open)
END:VEVENT
BEGIN:VEVENT
DTSTART;TZID=America/New_York:20180410T180000
DTEND;TZID=America/New_York:20180410T200000
DTSTAMP:20260423T135135
CREATED:20170803T164309Z
LAST-MODIFIED:20170803T171424Z
UID:2556-1523383200-1523390400@amityclub.org
SUMMARY:Board of Directors Meeting
DESCRIPTION:Board of Directors Meeting
URL:https://amityclub.org/event/board-of-directors-meeting-30/
LOCATION:Brazi’s Italian Restaurant and Via ZOOM\, 201 Food Terminal Plaza\, New Haven\, CT\, 06511
CATEGORIES:Board of Directors Meetings
END:VEVENT
BEGIN:VEVENT
DTSTART;TZID=America/New_York:20180403T171500
DTEND;TZID=America/New_York:20180403T201500
DTSTAMP:20260423T135135
CREATED:20170803T164309Z
LAST-MODIFIED:20170803T170045Z
UID:2555-1522775700-1522786500@amityclub.org
SUMMARY:Regular Meeting (Closed) - Nomination of New Board Members
DESCRIPTION:Regular Meeting (Closed) – Nomination of New Board Members
URL:https://amityclub.org/event/regular-meeting-closed-nomination-of-new-board-members-4/
LOCATION:Anthony’s Ocean View\, 450 Lighthouse Road\, New Haven\, CT\, 06512
CATEGORIES:Regular Meeting (Closed)
END:VEVENT
BEGIN:VEVENT
DTSTART;TZID=America/New_York:20180320T171500
DTEND;TZID=America/New_York:20180320T201500
DTSTAMP:20260423T135135
CREATED:20170803T164247Z
LAST-MODIFIED:20170803T170049Z
UID:2554-1521566100-1521576900@amityclub.org
SUMMARY:Regular Meeting (Open) - Speaker
DESCRIPTION:Regular Meeting (Open To Guests) Guest Speaker (TBA)
URL:https://amityclub.org/event/regular-meeting-open-speaker-10/
LOCATION:Anthony’s Ocean View\, 450 Lighthouse Road\, New Haven\, CT\, 06512
CATEGORIES:Regular Meeting (Open)
END:VEVENT
BEGIN:VEVENT
DTSTART;TZID=America/New_York:20180313T180000
DTEND;TZID=America/New_York:20180313T200000
DTSTAMP:20260423T135135
CREATED:20170803T164247Z
LAST-MODIFIED:20170803T171426Z
UID:2553-1520964000-1520971200@amityclub.org
SUMMARY:Board of Directors Meeting
DESCRIPTION:Board of Directors Meeting
URL:https://amityclub.org/event/board-of-directors-meeting-29/
LOCATION:Brazi’s Italian Restaurant and Via ZOOM\, 201 Food Terminal Plaza\, New Haven\, CT\, 06511
CATEGORIES:Board of Directors Meetings
END:VEVENT
BEGIN:VEVENT
DTSTART;TZID=America/New_York:20180306T171500
DTEND;TZID=America/New_York:20180306T201500
DTSTAMP:20260423T135135
CREATED:20170803T164247Z
LAST-MODIFIED:20170803T170052Z
UID:2552-1520356500-1520367300@amityclub.org
SUMMARY:Regular Meeting (Open) - Speaker
DESCRIPTION:Regular Meeting (Open To Guests) Guest Speaker (TBA)
URL:https://amityclub.org/event/regular-meeting-open-speaker-9/
LOCATION:Anthony’s Ocean View\, 450 Lighthouse Road\, New Haven\, CT\, 06512
CATEGORIES:Regular Meeting (Open)
END:VEVENT
BEGIN:VEVENT
DTSTART;TZID=America/New_York:20180220T171500
DTEND;TZID=America/New_York:20180220T201500
DTSTAMP:20260423T135135
CREATED:20170803T164247Z
LAST-MODIFIED:20170803T170055Z
UID:2551-1519146900-1519157700@amityclub.org
SUMMARY:Regular Meeting (Open) - Prospective Members’ Night - Speaker
DESCRIPTION:Regular Meeting (Open To Guests) – Prospective Members’ Night – Guest Speaker (TBA)
URL:https://amityclub.org/event/regular-meeting-open-prospective-members-night-speaker-15/
LOCATION:Anthony’s Ocean View\, 450 Lighthouse Road\, New Haven\, CT\, 06512
CATEGORIES:Regular Meeting (Open)
END:VEVENT
BEGIN:VEVENT
DTSTART;TZID=America/New_York:20180213T180000
DTEND;TZID=America/New_York:20180213T200000
DTSTAMP:20260423T135135
CREATED:20170803T164247Z
LAST-MODIFIED:20170803T171428Z
UID:2550-1518544800-1518552000@amityclub.org
SUMMARY:Board of Directors Meeting
DESCRIPTION:Board of Directors Meeting
URL:https://amityclub.org/event/board-of-directors-meeting-28/
LOCATION:Brazi’s Italian Restaurant and Via ZOOM\, 201 Food Terminal Plaza\, New Haven\, CT\, 06511
CATEGORIES:Board of Directors Meetings
END:VEVENT
BEGIN:VEVENT
DTSTART;TZID=America/New_York:20180206T171500
DTEND;TZID=America/New_York:20180206T201500
DTSTAMP:20260423T135135
CREATED:20170803T164247Z
LAST-MODIFIED:20170803T170058Z
UID:2549-1517937300-1517948100@amityclub.org
SUMMARY:Regular Meeting (Open) - Prospective Members’ Night - Speaker
DESCRIPTION:Regular Meeting (Open To Guests) – Prospective Members’ Night – Guest Speaker (TBA)
URL:https://amityclub.org/event/regular-meeting-open-prospective-members-night-speaker-14/
LOCATION:Anthony’s Ocean View\, 450 Lighthouse Road\, New Haven\, CT\, 06512
CATEGORIES:Regular Meeting (Open)
END:VEVENT
BEGIN:VEVENT
DTSTART;TZID=America/New_York:20180116T171500
DTEND;TZID=America/New_York:20180116T201500
DTSTAMP:20260423T135135
CREATED:20170803T164247Z
LAST-MODIFIED:20170803T170101Z
UID:2548-1516122900-1516133700@amityclub.org
SUMMARY:Regular Meeting (Open) - Induction of New Members
DESCRIPTION:Regular Meeting (Open To Guests) Induction of New Members
URL:https://amityclub.org/event/regular-meeting-open-induction-of-new-members-3/
LOCATION:Anthony’s Ocean View\, 450 Lighthouse Road\, New Haven\, CT\, 06512
CATEGORIES:Regular Meeting (Open)
END:VEVENT
BEGIN:VEVENT
DTSTART;TZID=America/New_York:20180109T180000
DTEND;TZID=America/New_York:20180109T200000
DTSTAMP:20260423T135135
CREATED:20170803T164247Z
LAST-MODIFIED:20170803T171430Z
UID:2547-1515520800-1515528000@amityclub.org
SUMMARY:Board of Directors Meeting
DESCRIPTION:Board of Directors Meeting
URL:https://amityclub.org/event/board-of-directors-meeting-27/
LOCATION:Brazi’s Italian Restaurant and Via ZOOM\, 201 Food Terminal Plaza\, New Haven\, CT\, 06511
CATEGORIES:Board of Directors Meetings
END:VEVENT
BEGIN:VEVENT
DTSTART;TZID=America/New_York:20180102T171500
DTEND;TZID=America/New_York:20180102T201500
DTSTAMP:20260423T135135
CREATED:20170803T164247Z
LAST-MODIFIED:20170803T170104Z
UID:2546-1514913300-1514924100@amityclub.org
SUMMARY:Regular Meeting (Open) - Sons’ & Daughters’ Night - Speaker
DESCRIPTION:Regular Meeting (Open To Guests) – Sons’ & Daughters’ Night – Guest Speaker (TBA)
URL:https://amityclub.org/event/regular-meeting-open-sons-daughters-night-speaker-4/
LOCATION:Anthony’s Ocean View\, 450 Lighthouse Road\, New Haven\, CT\, 06512
CATEGORIES:Regular Meeting (Open)
END:VEVENT
BEGIN:VEVENT
DTSTART;TZID=America/New_York:20171212T180000
DTEND;TZID=America/New_York:20171212T220000
DTSTAMP:20260423T135135
CREATED:20170803T164247Z
LAST-MODIFIED:20171130T233021Z
UID:2545-1513101600-1513116000@amityclub.org
SUMMARY:Christmas Party For Adults - (Open)
DESCRIPTION:Christmas Party For Adults – (Open To Guests) \nDownload (PDF\, 1.17MB)
URL:https://amityclub.org/event/christmas-party-for-adults-open-2/
CATEGORIES:Special Event
END:VEVENT
BEGIN:VEVENT
DTSTART;TZID=America/New_York:20171211T180000
DTEND;TZID=America/New_York:20171211T200000
DTSTAMP:20260423T135135
CREATED:20170803T164247Z
LAST-MODIFIED:20170803T171432Z
UID:2544-1513015200-1513022400@amityclub.org
SUMMARY:Board of Directors Meeting
DESCRIPTION:Board of Directors Meeting
URL:https://amityclub.org/event/board-of-directors-meeting-26/
LOCATION:Brazi’s Italian Restaurant and Via ZOOM\, 201 Food Terminal Plaza\, New Haven\, CT\, 06511
CATEGORIES:Board of Directors Meetings
END:VEVENT
BEGIN:VEVENT
DTSTART;TZID=America/New_York:20171121T171500
DTEND;TZID=America/New_York:20171121T201500
DTSTAMP:20260423T135135
CREATED:20170803T164247Z
LAST-MODIFIED:20170803T170113Z
UID:2543-1511284500-1511295300@amityclub.org
SUMMARY:Regular Meeting (Open) - Frank Rubino Night
DESCRIPTION:Regular Meeting (Open To Guests) – Frank Rubino Night
URL:https://amityclub.org/event/regular-meeting-open-frank-rubino-night-3/
LOCATION:Anthony’s Ocean View\, 450 Lighthouse Road\, New Haven\, CT\, 06512
CATEGORIES:Regular Meeting (Open)
END:VEVENT
BEGIN:VEVENT
DTSTART;TZID=America/New_York:20171114T180000
DTEND;TZID=America/New_York:20171114T200000
DTSTAMP:20260423T135135
CREATED:20170803T164247Z
LAST-MODIFIED:20170803T171434Z
UID:2542-1510682400-1510689600@amityclub.org
SUMMARY:Board of Directors Meeting
DESCRIPTION:Board of Directors Meeting
URL:https://amityclub.org/event/board-of-directors-meeting-25/
LOCATION:Brazi’s Italian Restaurant and Via ZOOM\, 201 Food Terminal Plaza\, New Haven\, CT\, 06511
CATEGORIES:Board of Directors Meetings
END:VEVENT
BEGIN:VEVENT
DTSTART;TZID=America/New_York:20171107T171500
DTEND;TZID=America/New_York:20171107T201500
DTSTAMP:20260423T135135
CREATED:20170803T164247Z
LAST-MODIFIED:20170803T170116Z
UID:2541-1510074900-1510085700@amityclub.org
SUMMARY:Regular Meeting (Closed) - Amity Charitable Trust & Financial Reporting
DESCRIPTION:Regular Meeting (Closed) – Amity Charitable Trust & Financial Reporting
URL:https://amityclub.org/event/regular-meeting-closed-amity-charitable-trust-financial-reporting-3/
LOCATION:Anthony’s Ocean View\, 450 Lighthouse Road\, New Haven\, CT\, 06512
CATEGORIES:Regular Meeting (Closed)
END:VEVENT
BEGIN:VEVENT
DTSTART;TZID=America/New_York:20171019T180000
DTEND;TZID=America/New_York:20171019T203000
DTSTAMP:20260423T135135
CREATED:20170803T172833Z
LAST-MODIFIED:20170810T194813Z
UID:2600-1508436000-1508445000@amityclub.org
SUMMARY:19th Annual Amity Charitable Trust Wine Tasting
DESCRIPTION:PRICING \n$55 | Wine & Italian Cuisine Tasting \nT I C K E T S \nTickets Available Online: \nhttps://www.sacredhearthamden.org/winetasting \nAndrea Nezat |  203-287-8181\, x372 |  anezat@sacredhearthamden.org \nJoe Adinolfi  |  203-915-2249  | jmadinolfi79@gmail.com \nProceeds Will Benefit The Amity Charitable Trust & Sacred Heart Academy
URL:https://amityclub.org/event/19th-international-wine-tasting-italian-cuisine-tasting/
LOCATION:Anthony’s Ocean View\, 450 Lighthouse Road\, New Haven\, CT\, 06512
CATEGORIES:Special Event
ORGANIZER;CN="Joe Adinolfi":MAILTO:jmadinolfi79@gmail.com
END:VEVENT
BEGIN:VEVENT
DTSTART;TZID=America/New_York:20171017T171500
DTEND;TZID=America/New_York:20171017T201500
DTSTAMP:20260423T135135
CREATED:20170803T164246Z
LAST-MODIFIED:20170803T170120Z
UID:2540-1508260500-1508271300@amityclub.org
SUMMARY:Regular Meeting (Open) - Speaker
DESCRIPTION:Regular Meeting (Open) – Speaker
URL:https://amityclub.org/event/regular-meeting-open-speaker-8/
LOCATION:Anthony’s Ocean View\, 450 Lighthouse Road\, New Haven\, CT\, 06512
CATEGORIES:Regular Meeting (Open)
END:VEVENT
BEGIN:VEVENT
DTSTART;TZID=America/New_York:20171010T180000
DTEND;TZID=America/New_York:20171010T200000
DTSTAMP:20260423T135135
CREATED:20170803T164246Z
LAST-MODIFIED:20170803T171436Z
UID:2539-1507658400-1507665600@amityclub.org
SUMMARY:Board of Directors Meeting
DESCRIPTION:Board of Directors Meeting
URL:https://amityclub.org/event/board-of-directors-meeting-24/
LOCATION:Brazi’s Italian Restaurant and Via ZOOM\, 201 Food Terminal Plaza\, New Haven\, CT\, 06511
CATEGORIES:Board of Directors Meetings
END:VEVENT
END:VCALENDAR