BEGIN:VCALENDAR
VERSION:2.0
PRODID:-//Amity Club of New Haven - ECPv6.15.20//NONSGML v1.0//EN
CALSCALE:GREGORIAN
METHOD:PUBLISH
X-WR-CALNAME:Amity Club of New Haven
X-ORIGINAL-URL:https://amityclub.org
X-WR-CALDESC:Events for Amity Club of New Haven
REFRESH-INTERVAL;VALUE=DURATION:PT1H
X-Robots-Tag:noindex
X-PUBLISHED-TTL:PT1H
BEGIN:VTIMEZONE
TZID:America/New_York
BEGIN:DAYLIGHT
TZOFFSETFROM:-0500
TZOFFSETTO:-0400
TZNAME:EDT
DTSTART:20160313T070000
END:DAYLIGHT
BEGIN:STANDARD
TZOFFSETFROM:-0400
TZOFFSETTO:-0500
TZNAME:EST
DTSTART:20161106T060000
END:STANDARD
BEGIN:DAYLIGHT
TZOFFSETFROM:-0500
TZOFFSETTO:-0400
TZNAME:EDT
DTSTART:20170312T070000
END:DAYLIGHT
BEGIN:STANDARD
TZOFFSETFROM:-0400
TZOFFSETTO:-0500
TZNAME:EST
DTSTART:20171105T060000
END:STANDARD
BEGIN:DAYLIGHT
TZOFFSETFROM:-0500
TZOFFSETTO:-0400
TZNAME:EDT
DTSTART:20180311T070000
END:DAYLIGHT
BEGIN:STANDARD
TZOFFSETFROM:-0400
TZOFFSETTO:-0500
TZNAME:EST
DTSTART:20181104T060000
END:STANDARD
END:VTIMEZONE
BEGIN:VEVENT
DTSTART;TZID=America/New_York:20171114T180000
DTEND;TZID=America/New_York:20171114T200000
DTSTAMP:20260423T150715
CREATED:20170803T164247Z
LAST-MODIFIED:20170803T171434Z
UID:2542-1510682400-1510689600@amityclub.org
SUMMARY:Board of Directors Meeting
DESCRIPTION:Board of Directors Meeting
URL:https://amityclub.org/event/board-of-directors-meeting-25/
LOCATION:Brazi’s Italian Restaurant and Via ZOOM\, 201 Food Terminal Plaza\, New Haven\, CT\, 06511
CATEGORIES:Board of Directors Meetings
END:VEVENT
BEGIN:VEVENT
DTSTART;TZID=America/New_York:20171107T171500
DTEND;TZID=America/New_York:20171107T201500
DTSTAMP:20260423T150715
CREATED:20170803T164247Z
LAST-MODIFIED:20170803T170116Z
UID:2541-1510074900-1510085700@amityclub.org
SUMMARY:Regular Meeting (Closed) - Amity Charitable Trust & Financial Reporting
DESCRIPTION:Regular Meeting (Closed) – Amity Charitable Trust & Financial Reporting
URL:https://amityclub.org/event/regular-meeting-closed-amity-charitable-trust-financial-reporting-3/
LOCATION:Anthony’s Ocean View\, 450 Lighthouse Road\, New Haven\, CT\, 06512
CATEGORIES:Regular Meeting (Closed)
END:VEVENT
BEGIN:VEVENT
DTSTART;TZID=America/New_York:20171019T180000
DTEND;TZID=America/New_York:20171019T203000
DTSTAMP:20260423T150715
CREATED:20170803T172833Z
LAST-MODIFIED:20170810T194813Z
UID:2600-1508436000-1508445000@amityclub.org
SUMMARY:19th Annual Amity Charitable Trust Wine Tasting
DESCRIPTION:PRICING \n$55 | Wine & Italian Cuisine Tasting \nT I C K E T S \nTickets Available Online: \nhttps://www.sacredhearthamden.org/winetasting \nAndrea Nezat |  203-287-8181\, x372 |  anezat@sacredhearthamden.org \nJoe Adinolfi  |  203-915-2249  | jmadinolfi79@gmail.com \nProceeds Will Benefit The Amity Charitable Trust & Sacred Heart Academy
URL:https://amityclub.org/event/19th-international-wine-tasting-italian-cuisine-tasting/
LOCATION:Anthony’s Ocean View\, 450 Lighthouse Road\, New Haven\, CT\, 06512
CATEGORIES:Special Event
ORGANIZER;CN="Joe Adinolfi":MAILTO:jmadinolfi79@gmail.com
END:VEVENT
BEGIN:VEVENT
DTSTART;TZID=America/New_York:20171017T171500
DTEND;TZID=America/New_York:20171017T201500
DTSTAMP:20260423T150715
CREATED:20170803T164246Z
LAST-MODIFIED:20170803T170120Z
UID:2540-1508260500-1508271300@amityclub.org
SUMMARY:Regular Meeting (Open) - Speaker
DESCRIPTION:Regular Meeting (Open) – Speaker
URL:https://amityclub.org/event/regular-meeting-open-speaker-8/
LOCATION:Anthony’s Ocean View\, 450 Lighthouse Road\, New Haven\, CT\, 06512
CATEGORIES:Regular Meeting (Open)
END:VEVENT
BEGIN:VEVENT
DTSTART;TZID=America/New_York:20171010T180000
DTEND;TZID=America/New_York:20171010T200000
DTSTAMP:20260423T150715
CREATED:20170803T164246Z
LAST-MODIFIED:20170803T171436Z
UID:2539-1507658400-1507665600@amityclub.org
SUMMARY:Board of Directors Meeting
DESCRIPTION:Board of Directors Meeting
URL:https://amityclub.org/event/board-of-directors-meeting-24/
LOCATION:Brazi’s Italian Restaurant and Via ZOOM\, 201 Food Terminal Plaza\, New Haven\, CT\, 06511
CATEGORIES:Board of Directors Meetings
END:VEVENT
BEGIN:VEVENT
DTSTART;TZID=America/New_York:20171008T130000
DTEND;TZID=America/New_York:20171008T170000
DTSTAMP:20260423T150715
CREATED:20170803T174755Z
LAST-MODIFIED:20170804T195151Z
UID:2618-1507467600-1507482000@amityclub.org
SUMMARY:Columbus Day Parade – West Haven
DESCRIPTION:Columbus Day Parade – West Haven
URL:https://amityclub.org/event/columbus-day-parade-west-haven/
LOCATION:West Haven Parade Route\, Campbell Avenue\, West Haven\, CT\, 06516
CATEGORIES:Special Event
END:VEVENT
BEGIN:VEVENT
DTSTART;TZID=America/New_York:20171007T110000
DTEND;TZID=America/New_York:20171007T140000
DTSTAMP:20260423T150715
CREATED:20170803T174750Z
LAST-MODIFIED:20170803T174931Z
UID:2617-1507374000-1507384800@amityclub.org
SUMMARY:Columbus Day Wreath Ceremony
DESCRIPTION:Columbus Day Wreath Ceremony \nBlessing of the Wreaths takes place at Saint Michael’s Church on Columbus Square at 11:00 A.M. \nProcession to statue and laying of the wreaths takes place immediately following the blessing. \nFor Complete Information see the New Haven Columbus Day Committee website.
URL:https://amityclub.org/event/columbus-day-wreath-ceremony-2017/
LOCATION:Wooster Square\, Chapel Street & Wooster Place\, New Haven\, CT
CATEGORIES:Special Event
END:VEVENT
BEGIN:VEVENT
DTSTART;TZID=America/New_York:20171003T171500
DTEND;TZID=America/New_York:20171003T201500
DTSTAMP:20260423T150715
CREATED:20170803T164246Z
LAST-MODIFIED:20170803T170124Z
UID:2538-1507050900-1507061700@amityclub.org
SUMMARY:Regular Meeting (Open) - Prospective Members’ Night - Speaker
DESCRIPTION:Regular Meeting (Open To Guests) – Prospective Members’ Night – Guest Speaker (TBA)
URL:https://amityclub.org/event/regular-meeting-open-prospective-members-night-speaker-13/
LOCATION:Anthony’s Ocean View\, 450 Lighthouse Road\, New Haven\, CT\, 06512
CATEGORIES:Regular Meeting (Open)
END:VEVENT
BEGIN:VEVENT
DTSTART;TZID=America/New_York:20170919T171500
DTEND;TZID=America/New_York:20170919T201500
DTSTAMP:20260423T150715
CREATED:20170803T164246Z
LAST-MODIFIED:20170803T170135Z
UID:2537-1505841300-1505852100@amityclub.org
SUMMARY:Regular Meeting (Open) - Prospective Members’ Night - Speaker
DESCRIPTION:Regular Meeting (Open To Guests) – Prospective Members’ Night – Guest Speaker (TBA)
URL:https://amityclub.org/event/regular-meeting-open-prospective-members-night-speaker-12/
LOCATION:Anthony’s Ocean View\, 450 Lighthouse Road\, New Haven\, CT\, 06512
CATEGORIES:Regular Meeting (Open)
END:VEVENT
BEGIN:VEVENT
DTSTART;TZID=America/New_York:20170912T180000
DTEND;TZID=America/New_York:20170912T200000
DTSTAMP:20260423T150715
CREATED:20170803T164246Z
LAST-MODIFIED:20170803T171438Z
UID:2536-1505239200-1505246400@amityclub.org
SUMMARY:Board of Directors Meeting
DESCRIPTION:Board of Directors Meeting
URL:https://amityclub.org/event/board-of-directors-meeting-23/
LOCATION:Brazi’s Italian Restaurant and Via ZOOM\, 201 Food Terminal Plaza\, New Haven\, CT\, 06511
CATEGORIES:Board of Directors Meetings
END:VEVENT
BEGIN:VEVENT
DTSTART;TZID=America/New_York:20170905T171500
DTEND;TZID=America/New_York:20170905T201500
DTSTAMP:20260423T150715
CREATED:20170803T164246Z
LAST-MODIFIED:20170803T170138Z
UID:2535-1504631700-1504642500@amityclub.org
SUMMARY:Regular Meeting (Closed) - President's Project
DESCRIPTION:Regular Meeting (Closed) – President’s Project
URL:https://amityclub.org/event/regular-meeting-closed-presidents-project-3/
LOCATION:Anthony’s Ocean View\, 450 Lighthouse Road\, New Haven\, CT\, 06512
CATEGORIES:Regular Meeting (Closed)
END:VEVENT
BEGIN:VEVENT
DTSTART;TZID=America/New_York:20170731T100000
DTEND;TZID=America/New_York:20170731T190000
DTSTAMP:20260423T150715
CREATED:20170803T173204Z
LAST-MODIFIED:20170803T173312Z
UID:2603-1501495200-1501527600@amityclub.org
SUMMARY:34th Annual Twohill Cup Amity Club Golf Classic
DESCRIPTION:Come out and enjoy a day of golf on the beautiful Wallingford Country Club course.  Meet friends\, indulge in the lavish raw bar\, relax and have fun\, all while supporting Greater New Haven area charities and college bound high school students.  Its a great outing – Don’t miss it!
URL:https://amityclub.org/event/34th-annual-twohill-cup-amity-club-golf-classic/
LOCATION:Wallingford Country Club\, 195 Long Hill Road\, Wallingford\, 06492
CATEGORIES:Special Event
END:VEVENT
BEGIN:VEVENT
DTSTART;TZID=America/New_York:20170729T120000
DTEND;TZID=America/New_York:20170729T200000
DTSTAMP:20260423T150715
CREATED:20170803T173521Z
LAST-MODIFIED:20170803T174427Z
UID:2608-1501329600-1501358400@amityclub.org
SUMMARY:2017 Family Picnic
DESCRIPTION:Come for the food\, drinks\, games\, music and memories!!! \nLunch: Hot Dogs\, Hamburgers\, Sausage Patties \nDinner: Ziti Dinner w/Sausage & Meatballs\, Pot Luck of Salads\, Sides\, & Desserts \nWine\, Beer\, Soft Drinks & Water included \n(BYOB Personal Alcoholic Preference) \n$35 Per Person (Children 13 & Under Free) \nPlease Respond By July 24\, 2017 \nRegistration Form \nPlease contact: \nVincent Pacelli (203) 444-4604 \nPat Panza (203) 627-5994 \nBill Parisi (203) 808-2893
URL:https://amityclub.org/event/amity-club-family-picnic-2017/
LOCATION:Westbrook Elks Lodge\, 142 Seaside Avenue\, Westbrook\, CT\, 06498
CATEGORIES:Special Event
END:VEVENT
BEGIN:VEVENT
DTSTART;TZID=America/New_York:20170620T171500
DTEND;TZID=America/New_York:20170620T201500
DTSTAMP:20260423T150715
CREATED:20160717T200450Z
LAST-MODIFIED:20160717T203219Z
UID:2167-1497978900-1497989700@amityclub.org
SUMMARY:Regular Meeting (Closed) - President’s Farewell Address
DESCRIPTION:Regular Meeting (Closed) – President’s Farewell Address
URL:https://amityclub.org/event/regular-meeting-closed-presidents-farewell-address-2/
LOCATION:Anthony’s Ocean View\, 450 Lighthouse Road\, New Haven\, CT\, 06512
CATEGORIES:Regular Meeting (Closed)
END:VEVENT
BEGIN:VEVENT
DTSTART;TZID=America/New_York:20170613T180000
DTEND;TZID=America/New_York:20170613T200000
DTSTAMP:20260423T150715
CREATED:20160717T200450Z
LAST-MODIFIED:20160717T202830Z
UID:2166-1497376800-1497384000@amityclub.org
SUMMARY:Board of Directors Meeting
DESCRIPTION:Board of Directors Meeting
URL:https://amityclub.org/event/board-of-directors-meeting-40/
LOCATION:Brazi’s Italian Restaurant and Via ZOOM\, 201 Food Terminal Plaza\, New Haven\, CT\, 06511
CATEGORIES:Board of Directors Meetings
END:VEVENT
BEGIN:VEVENT
DTSTART;TZID=America/New_York:20170610T180000
DTEND;TZID=America/New_York:20170610T220000
DTSTAMP:20260423T150715
CREATED:20160717T200511Z
LAST-MODIFIED:20160717T201010Z
UID:2169-1497117600-1497132000@amityclub.org
SUMMARY:2017 Inaugural Ball
DESCRIPTION:Inaugural Ball
URL:https://amityclub.org/event/inaugural-ball-2-2-copy/
LOCATION:Anthony’s Ocean View\, 450 Lighthouse Road\, New Haven\, CT\, 06512
CATEGORIES:Special Event
END:VEVENT
BEGIN:VEVENT
DTSTART;TZID=America/New_York:20170606T171500
DTEND;TZID=America/New_York:20170606T201500
DTSTAMP:20260423T150715
CREATED:20160717T200450Z
LAST-MODIFIED:20160717T203213Z
UID:2165-1496769300-1496780100@amityclub.org
SUMMARY:Regular Meeting (Open) - Scholarship Awards Night
DESCRIPTION:Regular Meeting (Open To Guests) Guest Speaker (TBA)
URL:https://amityclub.org/event/regular-meeting-open-scholarship-awards-night-3/
LOCATION:Anthony’s Ocean View\, 450 Lighthouse Road\, New Haven\, CT\, 06512
CATEGORIES:Regular Meeting (Open),Special Event
END:VEVENT
BEGIN:VEVENT
DTSTART;TZID=America/New_York:20170516T171500
DTEND;TZID=America/New_York:20170516T201500
DTSTAMP:20260423T150715
CREATED:20160717T200450Z
LAST-MODIFIED:20160717T203207Z
UID:2164-1494954900-1494965700@amityclub.org
SUMMARY:Regular Meeting (Open) - Worthy Projects
DESCRIPTION:Regular Meeting (Open To Guests) – Worthy Projects
URL:https://amityclub.org/event/regular-meeting-open-worthy-projects-5/
LOCATION:Anthony’s Ocean View\, 450 Lighthouse Road\, New Haven\, CT\, 06512
CATEGORIES:Regular Meeting (Open),Special Event
END:VEVENT
BEGIN:VEVENT
DTSTART;TZID=America/New_York:20170509T180000
DTEND;TZID=America/New_York:20170509T200000
DTSTAMP:20260423T150715
CREATED:20160717T200450Z
LAST-MODIFIED:20160717T202823Z
UID:2163-1494352800-1494360000@amityclub.org
SUMMARY:Board of Directors Meeting
DESCRIPTION:Board of Directors Meeting
URL:https://amityclub.org/event/board-of-directors-meeting-41/
LOCATION:Brazi’s Italian Restaurant and Via ZOOM\, 201 Food Terminal Plaza\, New Haven\, CT\, 06511
CATEGORIES:Board of Directors Meetings
END:VEVENT
BEGIN:VEVENT
DTSTART;TZID=America/New_York:20170502T171500
DTEND;TZID=America/New_York:20170502T201500
DTSTAMP:20260423T150715
CREATED:20160717T200450Z
LAST-MODIFIED:20160717T203159Z
UID:2162-1493745300-1493756100@amityclub.org
SUMMARY:Regular Meeting (Closed) - Induction of New Members & Election of New Board Members
DESCRIPTION:Regular Meeting (Closed) – Induction of New Members & Election of New Board Members
URL:https://amityclub.org/event/regular-meeting-closed-induction-of-new-members-election-of-new-board-members-5/
LOCATION:Anthony’s Ocean View\, 450 Lighthouse Road\, New Haven\, CT\, 06512
CATEGORIES:Regular Meeting (Closed)
END:VEVENT
BEGIN:VEVENT
DTSTART;TZID=America/New_York:20170420T180000
DTEND;TZID=America/New_York:20170420T220000
DTSTAMP:20260423T150715
CREATED:20160719T174850Z
LAST-MODIFIED:20170310T162531Z
UID:2200-1492711200-1492725600@amityclub.org
SUMMARY:2017 President's Project
DESCRIPTION:Please Click Here To See Event Pricing and Additional Information
URL:https://amityclub.org/event/2016-presidents-project-copy/
LOCATION:Anthony’s Ocean View\, 450 Lighthouse Road\, New Haven\, CT\, 06512
CATEGORIES:Special Event
END:VEVENT
BEGIN:VEVENT
DTSTART;TZID=America/New_York:20170418T171500
DTEND;TZID=America/New_York:20170418T201500
DTSTAMP:20260423T150715
CREATED:20160717T200450Z
LAST-MODIFIED:20160717T203154Z
UID:2161-1492535700-1492546500@amityclub.org
SUMMARY:Regular Meeting (Open) - Speaker
DESCRIPTION:Regular Meeting (Open To Guests) Guest Speaker (TBA)
URL:https://amityclub.org/event/regular-meeting-open-speaker-15/
LOCATION:Anthony’s Ocean View\, 450 Lighthouse Road\, New Haven\, CT\, 06512
CATEGORIES:Regular Meeting (Open)
END:VEVENT
BEGIN:VEVENT
DTSTART;TZID=America/New_York:20170411T180000
DTEND;TZID=America/New_York:20170411T200000
DTSTAMP:20260423T150715
CREATED:20160717T200450Z
LAST-MODIFIED:20160717T202816Z
UID:2160-1491933600-1491940800@amityclub.org
SUMMARY:Board of Directors Meeting
DESCRIPTION:Board of Directors Meeting
URL:https://amityclub.org/event/board-of-directors-meeting-42/
LOCATION:Brazi’s Italian Restaurant and Via ZOOM\, 201 Food Terminal Plaza\, New Haven\, CT\, 06511
CATEGORIES:Board of Directors Meetings
END:VEVENT
BEGIN:VEVENT
DTSTART;TZID=America/New_York:20170404T171500
DTEND;TZID=America/New_York:20170404T201500
DTSTAMP:20260423T150715
CREATED:20160717T200450Z
LAST-MODIFIED:20160717T203145Z
UID:2159-1491326100-1491336900@amityclub.org
SUMMARY:Regular Meeting (Closed) - Nomination of New Board Members
DESCRIPTION:Regular Meeting (Closed) – Nomination of New Board Members
URL:https://amityclub.org/event/regular-meeting-closed-nomination-of-new-board-members-5/
LOCATION:Anthony’s Ocean View\, 450 Lighthouse Road\, New Haven\, CT\, 06512
CATEGORIES:Regular Meeting (Closed)
END:VEVENT
BEGIN:VEVENT
DTSTART;TZID=America/New_York:20170321T171500
DTEND;TZID=America/New_York:20170321T201500
DTSTAMP:20260423T150715
CREATED:20160717T200427Z
LAST-MODIFIED:20160717T203139Z
UID:2158-1490116500-1490127300@amityclub.org
SUMMARY:Regular Meeting (Open) - Speaker
DESCRIPTION:Regular Meeting (Open To Guests) Guest Speaker (TBA)
URL:https://amityclub.org/event/regular-meeting-open-speaker-14/
LOCATION:Anthony’s Ocean View\, 450 Lighthouse Road\, New Haven\, CT\, 06512
CATEGORIES:Regular Meeting (Open)
END:VEVENT
BEGIN:VEVENT
DTSTART;TZID=America/New_York:20170314T180000
DTEND;TZID=America/New_York:20170314T200000
DTSTAMP:20260423T150715
CREATED:20160717T200427Z
LAST-MODIFIED:20160717T202809Z
UID:2157-1489514400-1489521600@amityclub.org
SUMMARY:Board of Directors Meeting
DESCRIPTION:Board of Directors Meeting
URL:https://amityclub.org/event/board-of-directors-meeting-39/
LOCATION:Brazi’s Italian Restaurant and Via ZOOM\, 201 Food Terminal Plaza\, New Haven\, CT\, 06511
CATEGORIES:Board of Directors Meetings
END:VEVENT
BEGIN:VEVENT
DTSTART;TZID=America/New_York:20170307T171500
DTEND;TZID=America/New_York:20170307T201500
DTSTAMP:20260423T150715
CREATED:20160717T200427Z
LAST-MODIFIED:20160717T203133Z
UID:2156-1488906900-1488917700@amityclub.org
SUMMARY:Regular Meeting (Open) - Speaker
DESCRIPTION:Regular Meeting (Open To Guests) Guest Speaker (TBA)
URL:https://amityclub.org/event/regular-meeting-open-speaker-13/
LOCATION:Anthony’s Ocean View\, 450 Lighthouse Road\, New Haven\, CT\, 06512
CATEGORIES:Regular Meeting (Open)
END:VEVENT
BEGIN:VEVENT
DTSTART;TZID=America/New_York:20170221T171500
DTEND;TZID=America/New_York:20170221T201500
DTSTAMP:20260423T150715
CREATED:20160717T200427Z
LAST-MODIFIED:20160717T203126Z
UID:2155-1487697300-1487708100@amityclub.org
SUMMARY:Regular Meeting (Open) - Prospective Members’ Night - Speaker
DESCRIPTION:Regular Meeting (Open To Guests) – Prospective Members’ Night – Guest Speaker (TBA)
URL:https://amityclub.org/event/regular-meeting-open-prospective-members-night-speaker-11/
LOCATION:Anthony’s Ocean View\, 450 Lighthouse Road\, New Haven\, CT\, 06512
CATEGORIES:Regular Meeting (Open)
END:VEVENT
BEGIN:VEVENT
DTSTART;TZID=America/New_York:20170214T180000
DTEND;TZID=America/New_York:20170214T200000
DTSTAMP:20260423T150715
CREATED:20160717T200427Z
LAST-MODIFIED:20160717T202802Z
UID:2154-1487095200-1487102400@amityclub.org
SUMMARY:Board of Directors Meeting
DESCRIPTION:Board of Directors Meeting
URL:https://amityclub.org/event/board-of-directors-meeting-38/
LOCATION:Brazi’s Italian Restaurant and Via ZOOM\, 201 Food Terminal Plaza\, New Haven\, CT\, 06511
CATEGORIES:Board of Directors Meetings
END:VEVENT
BEGIN:VEVENT
DTSTART;TZID=America/New_York:20170207T171500
DTEND;TZID=America/New_York:20170207T201500
DTSTAMP:20260423T150715
CREATED:20160717T200427Z
LAST-MODIFIED:20160717T203119Z
UID:2153-1486487700-1486498500@amityclub.org
SUMMARY:Regular Meeting (Open) - Prospective Members’ Night - Speaker
DESCRIPTION:Regular Meeting (Open To Guests) – Prospective Members’ Night – Guest Speaker (TBA)
URL:https://amityclub.org/event/regular-meeting-open-prospective-members-night-speaker-10/
LOCATION:Anthony’s Ocean View\, 450 Lighthouse Road\, New Haven\, CT\, 06512
CATEGORIES:Regular Meeting (Open)
END:VEVENT
END:VCALENDAR